BEGIN:VCALENDAR
VERSION:2.0
PRODID:-//The Sixth Floor Museum at Dealey Plaza - ECPv6.0.2//NONSGML v1.0//EN
CALSCALE:GREGORIAN
METHOD:PUBLISH
X-ORIGINAL-URL:https://www.jfk.org
X-WR-CALDESC:Events for The Sixth Floor Museum at Dealey Plaza
REFRESH-INTERVAL;VALUE=DURATION:PT1H
X-Robots-Tag:noindex
X-PUBLISHED-TTL:PT1H
BEGIN:VTIMEZONE
TZID:America/Chicago
BEGIN:DAYLIGHT
TZOFFSETFROM:-0600
TZOFFSETTO:-0500
TZNAME:CDT
DTSTART:20130310T080000
END:DAYLIGHT
BEGIN:STANDARD
TZOFFSETFROM:-0500
TZOFFSETTO:-0600
TZNAME:CST
DTSTART:20131103T070000
END:STANDARD
BEGIN:DAYLIGHT
TZOFFSETFROM:-0600
TZOFFSETTO:-0500
TZNAME:CDT
DTSTART:20140309T080000
END:DAYLIGHT
BEGIN:STANDARD
TZOFFSETFROM:-0500
TZOFFSETTO:-0600
TZNAME:CST
DTSTART:20141102T070000
END:STANDARD
BEGIN:DAYLIGHT
TZOFFSETFROM:-0600
TZOFFSETTO:-0500
TZNAME:CDT
DTSTART:20150308T080000
END:DAYLIGHT
BEGIN:STANDARD
TZOFFSETFROM:-0500
TZOFFSETTO:-0600
TZNAME:CST
DTSTART:20151101T070000
END:STANDARD
END:VTIMEZONE
BEGIN:VEVENT
DTSTART;TZID=America/Chicago:20140606T140000
DTEND;TZID=America/Chicago:20140606T150000
DTSTAMP:20221021T162215
CREATED:20150406T155236Z
LAST-MODIFIED:20150406T155236Z
UID:3433-1402063200-1402066800@www.jfk.org
SUMMARY:2014 Living History Series - J. Elke Ertle
DESCRIPTION:A native of Germany\, Ertle was an eyewitness to President Kennedy’s historic speech in West Berlin on June 26\, 1963. She later moved to the United States and wrote a book about her early life\, Walled-In: A West Berlin Girl’s Journey to Freedom\, in 2013. After the program\, Ertle remained to sign her book\, “WALLED IN: A West Berlin Girl’s Journey to Freedom.” The book is available for sale in both Museum stores. \nWatch the video on YouTube.
URL:https://www.jfk.org/event/2014-living-history-series-j-elke-ertle/
LOCATION:The Sixth Floor Museum at Dealey Plaza\, 411 Elm St.\, Dallas\, TX\, 75202\, United States
END:VEVENT
BEGIN:VEVENT
DTSTART;TZID=America/Chicago:20140503T140000
DTEND;TZID=America/Chicago:20140503T150000
DTSTAMP:20221021T162215
CREATED:20150406T155100Z
LAST-MODIFIED:20150406T155100Z
UID:3432-1399125600-1399129200@www.jfk.org
SUMMARY:2014 Living History Series - J. Walter Coughlin
DESCRIPTION:A U.S. Secret Service agent from 1961 to 1977\, Coughlin served on the details of President Kennedy\, President Johnson and Vice President Hubert Humphrey. He was part of the advance team for San Antonio on President Kennedy’s trip to Texas. \nWatch the video on YouTube.
URL:https://www.jfk.org/event/2014-living-history-series-j-walter-coughlin/
LOCATION:The Sixth Floor Museum at Dealey Plaza\, 411 Elm St.\, Dallas\, TX\, 75202\, United States
END:VEVENT
BEGIN:VEVENT
DTSTART;TZID=America/Chicago:20140423T140000
DTEND;TZID=America/Chicago:20140423T150000
DTSTAMP:20221021T162215
CREATED:20150406T154940Z
LAST-MODIFIED:20150406T154940Z
UID:3431-1398261600-1398265200@www.jfk.org
SUMMARY:U.S. Navy Blues City Brass Quintet
DESCRIPTION:The Sixth Floor Museum celebrated Navy Week 2014 and honored President Kennedy’s service in the United States Navy with a special performance by the Navy Band Mid-South’s brass quintet\, Blues City Brass. The quintet performed a selection of patriotic classics\, Broadway hits and popular music.
URL:https://www.jfk.org/event/u-s-navy-blues-city-brass-quintet/
LOCATION:The Sixth Floor Museum at Dealey Plaza\, 411 Elm St.\, Dallas\, TX\, 75202\, United States
END:VEVENT
BEGIN:VEVENT
DTSTART;TZID=America/Chicago:20140412T140000
DTEND;TZID=America/Chicago:20140412T150000
DTSTAMP:20221021T162215
CREATED:20150406T153949Z
LAST-MODIFIED:20150406T153949Z
UID:3430-1397311200-1397314800@www.jfk.org
SUMMARY:“The City of Hate”?
DESCRIPTION:Did Dallas deserve the moniker\, “The City of Hate” following President John F. Kennedy’s assassination in Dealey Plaza on November 22\, 1963? Did the city’s pockets of extremism and paranoia of the time create an atmosphere where assassination of the president was possible? A screening of the documentary\, “City of Hate: Dallas and the Assassination\,” by longtime Dallas resident\, journalist and filmmaker Quin Mathews\, was followed by an in-depth discussion between Mathews and Bill Minutaglio\, co-author of “Dallas 1963\,” named one of the top non-fiction books of 2013. \nWatch the video on YouTube.
URL:https://www.jfk.org/event/the-city-of-hate/
LOCATION:The Sixth Floor Museum at Dealey Plaza\, 411 Elm St.\, Dallas\, TX\, 75202\, United States
END:VEVENT
BEGIN:VEVENT
DTSTART;TZID=America/Chicago:20140405T140000
DTEND;TZID=America/Chicago:20140405T150000
DTSTAMP:20221021T162215
CREATED:20150406T153547Z
LAST-MODIFIED:20150406T153547Z
UID:3429-1396706400-1396710000@www.jfk.org
SUMMARY:2014 Living History Series - Julian Read
DESCRIPTION:As press aide to Governor John Connally in 1963\, Read was traveling with the presidential party in Dallas. He was with Connally and his wife\, Nellie\, throughout the ordeal and later wrote about his experience in “JFK’s Final Hours in Texas” (2013). \nWatch the video on YouTube.
URL:https://www.jfk.org/event/2014-living-history-series-julian-read/
LOCATION:The Sixth Floor Museum at Dealey Plaza\, 411 Elm St.\, Dallas\, TX\, 75202\, United States
END:VEVENT
BEGIN:VEVENT
DTSTART;TZID=America/Chicago:20140329T140000
DTEND;TZID=America/Chicago:20140329T150000
DTSTAMP:20221021T162215
CREATED:20150406T153416Z
LAST-MODIFIED:20150406T153416Z
UID:3428-1396101600-1396105200@www.jfk.org
SUMMARY:2014 Living History Series - Kari-Mette Pigmans
DESCRIPTION:Pigmans was a Pan Am stewardess aboard the White House press plane in the early 1960s and had met President Kennedy several times. She was at Dallas Love Field at the time of the assassination. \nWatch the video on YouTube.
URL:https://www.jfk.org/event/2014-living-history-series-kari-mette-pigmans/
LOCATION:The Sixth Floor Museum at Dealey Plaza\, 411 Elm St.\, Dallas\, TX\, 75202\, United States
END:VEVENT
BEGIN:VEVENT
DTSTART;TZID=America/Chicago:20140309T120000
DTEND;TZID=America/Chicago:20140309T170000
DTSTAMP:20221021T162215
CREATED:20150406T153231Z
LAST-MODIFIED:20150406T153231Z
UID:3427-1394366400-1394384400@www.jfk.org
SUMMARY:CSI Family Day
DESCRIPTION:The eighth annual CSI Family Day at The Sixth Floor Museum at Dealey Plaza\, set for Sunday\, March 9\, 2014\, will give aspiring crime scene investigators a chance to learn modern investigative techniques for solving crime. Visitors will investigate a mock crime scene\, receive a police report about what happened\, and perform forensic analysis at evidence stations. The event is suitable for children eight years and older\, their parents and anyone interested in crime scene investigation and analysis.
URL:https://www.jfk.org/event/csi-family-day-6/
LOCATION:The Sixth Floor Museum at Dealey Plaza\, 411 Elm St.\, Dallas\, TX\, 75202\, United States
END:VEVENT
BEGIN:VEVENT
DTSTART;TZID=America/Chicago:20140301T140000
DTEND;TZID=America/Chicago:20150301T150000
DTSTAMP:20221021T162215
CREATED:20150406T153149Z
LAST-MODIFIED:20150406T153149Z
UID:3426-1393682400-1425222000@www.jfk.org
SUMMARY:2014 Living History Series - Rio Sam Pierce
DESCRIPTION:A Dallas police officer for 27 years\, Pierce was in charge of basement security on the day of Lee Harvey Oswald’s scheduled transfer to the Dallas County Jail. Pierce drove his vehicle up the Main Street ramp at the same time that some believe Jack Ruby gained access to the basement. \nWatch the video on YouTube.
URL:https://www.jfk.org/event/2014-living-history-series-rio-sam-pierce/
LOCATION:The Sixth Floor Museum at Dealey Plaza\, 411 Elm St.\, Dallas\, TX\, 75202\, United States
END:VEVENT
BEGIN:VEVENT
DTSTART;TZID=America/Chicago:20140220T140000
DTEND;TZID=America/Chicago:20140220T150000
DTSTAMP:20221021T162215
CREATED:20150406T153021Z
LAST-MODIFIED:20150406T153021Z
UID:3425-1392904800-1392908400@www.jfk.org
SUMMARY:Assassination and Commemoration
DESCRIPTION:As part of The Sixth Floor Museum’s 25th anniversary commemoration\, Associate Curator Stephen Fagin presented a history of the Museum based on his recent book\, “Assassination and Commemoration: JFK\, Dallas and The Sixth Floor Museum at Dealey Plaza.” \nWatch the video on YouTube.
URL:https://www.jfk.org/event/assassination-and-commemoration/
LOCATION:The Sixth Floor Museum at Dealey Plaza\, 411 Elm St.\, Dallas\, TX\, 75202\, United States
END:VEVENT
BEGIN:VEVENT
DTSTART;TZID=America/Chicago:20140218T190000
DTEND;TZID=America/Chicago:20140218T200000
DTSTAMP:20221021T162215
CREATED:20150406T152745Z
LAST-MODIFIED:20150406T152745Z
UID:3424-1392750000-1392753600@www.jfk.org
SUMMARY:When Life Strikes the White House
DESCRIPTION:The Sixth Floor Museum kicked off the symposium\, “When Life Strikes the White House: Death\, Scandal\, Illness and the Responsibilities of a President\,” with a keynote lecture featuring syndicated columnist and lecturer Richard Reeves. Reeves is currently a lecturer at the University of Southern California’s Annenberg School for Communications and is the author of President Kennedy: Profile of Power. \nWatch the video on YouTube.
URL:https://www.jfk.org/event/when-life-strikes-the-white-house/
LOCATION:The Sixth Floor Museum at Dealey Plaza\, 411 Elm St.\, Dallas\, TX\, 75202\, United States
END:VEVENT
BEGIN:VEVENT
DTSTART;TZID=America/Chicago:20140208T140000
DTEND;TZID=America/Chicago:20150208T150000
DTSTAMP:20221021T162215
CREATED:20150406T152535Z
LAST-MODIFIED:20150406T152535Z
UID:3423-1391868000-1423407600@www.jfk.org
SUMMARY:2014 Living History Series - Eddie Griffin
DESCRIPTION:A Fort Worth native\, Griffin was outside the Hotel Texas when the Kennedys arrived on November 21\, 1963. At the height of the Civil Rights Movement\, Griffin traveled across the country and became active with the Black Panthers. \nWatch the video on YouTube.
URL:https://www.jfk.org/event/2014-living-history-series-eddie-griffin/
LOCATION:The Sixth Floor Museum at Dealey Plaza\, 411 Elm St.\, Dallas\, TX\, 75202\, United States
END:VEVENT
BEGIN:VEVENT
DTSTART;TZID=America/Chicago:20140111T140000
DTEND;TZID=America/Chicago:20140111T150000
DTSTAMP:20221021T162215
CREATED:20150406T152345Z
LAST-MODIFIED:20150406T152345Z
UID:3422-1389448800-1389452400@www.jfk.org
SUMMARY:2014 Living History Series - Maurice “Mickey” Carroll
DESCRIPTION:A reporter for the New York Herald Tribune in 1963\, Carroll covered the scene at Dallas police headquarters and witnessed the shooting of Lee Harvey Oswald. He co-wrote attorney Melvin Belli’s “Dallas Justice” (1964). \nWatch the video on YouTube.
URL:https://www.jfk.org/event/2014-living-history-series-maurice-mickey-carroll/
LOCATION:The Sixth Floor Museum at Dealey Plaza\, 411 Elm St.\, Dallas\, TX\, 75202\, United States
END:VEVENT
BEGIN:VEVENT
DTSTART;TZID=America/Chicago:20131124T140000
DTEND;TZID=America/Chicago:20131124T150000
DTSTAMP:20221021T162215
CREATED:20150403T202833Z
LAST-MODIFIED:20150403T202833Z
UID:3419-1385301600-1385305200@www.jfk.org
SUMMARY:Encore Performance of "Soundings: One Red Rose" by Steven Mackey
DESCRIPTION:The Nasher Sculpture Center will present an encore performance of its commemorative Soundings concert\, One Red Rose\, on the seventh floor of The Sixth Floor Museum. One Red Rose was written by internationally renowned composer Steven Mackey for the Brentano String Quartet in honor of the anniversary of President Kennedy’s death. It was commissioned by the Nasher with Carnegie Hall (New York\, NY) and Yellow Barn (Putney\, VT). A discussion with the audience will follow. The title of the piece comes from a blood-soaked red rose that had fallen from the bouquet that former First Lady Jacqueline Kennedy had been carrying.
URL:https://www.jfk.org/event/encore-performance-of-soundings-one-red-rose-by-steven-mackey/
LOCATION:The Sixth Floor Museum at Dealey Plaza\, 411 Elm St.\, Dallas\, TX\, 75202\, United States
END:VEVENT
BEGIN:VEVENT
DTSTART;TZID=America/Chicago:20131110T140000
DTEND;TZID=America/Chicago:20131110T150000
DTSTAMP:20221021T162215
CREATED:20150403T202720Z
LAST-MODIFIED:20150403T202720Z
UID:3418-1384092000-1384095600@www.jfk.org
SUMMARY:Dallas 1963
DESCRIPTION:Co-writer Steven L. Davis discussed and signed copies of his new book\, Dallas 1963\, an in-depth exploration of the swirling forces that led many people to warn President Kennedy to avoid Dallas on his fateful trip to Texas. Moderator was KERA’s Jerome Weeks. \nWatch the video on YouTube.
URL:https://www.jfk.org/event/dallas-1963/
LOCATION:The Sixth Floor Museum at Dealey Plaza\, 411 Elm St.\, Dallas\, TX\, 75202\, United States
END:VEVENT
BEGIN:VEVENT
DTSTART;TZID=America/Chicago:20131109T140000
DTEND;TZID=America/Chicago:20131109T150000
DTSTAMP:20221021T162215
CREATED:20150403T202500Z
LAST-MODIFIED:20150403T202500Z
UID:3417-1384005600-1384009200@www.jfk.org
SUMMARY:2013 Living History Series – Bill and Gayle Newman (with sons Clayton and Bill)
DESCRIPTION:The Newmans were the closest civilian eyewitnesses to President Kennedy at the time of the fatal shot and were interviewed on TV immediately after the assassination. This will be the first time all four family members have appeared together. \nWatch the video on YouTube.
URL:https://www.jfk.org/event/2013-living-history-series-bill-and-gayle-newman-with-sons-clayton-and-bill/
LOCATION:The Sixth Floor Museum at Dealey Plaza\, 411 Elm St.\, Dallas\, TX\, 75202\, United States
END:VEVENT
BEGIN:VEVENT
DTSTART;TZID=America/Chicago:20131108T190000
DTEND;TZID=America/Chicago:20131108T200000
DTSTAMP:20221021T162215
CREATED:20150403T202256Z
LAST-MODIFIED:20150403T202256Z
UID:3416-1383937200-1383940800@www.jfk.org
SUMMARY:JFK's Final Hours in Texas
DESCRIPTION:In 1963\, Julian Read was the media representative for Governor John Connally\, host of President Kennedy’s November visit to Texas. Read will discuss his new book\, JFK’s Final Hours in Texas\, in which he documents not only the immediate agony endured by the people in the epicenter of the tragedy\, but also the continuing experience of a wounded community recovering from its aftermath. \nWatch the video on YouTube.
URL:https://www.jfk.org/event/jfks-final-hours-in-texas/
LOCATION:The Sixth Floor Museum at Dealey Plaza\, 411 Elm St.\, Dallas\, TX\, 75202\, United States
END:VEVENT
BEGIN:VEVENT
DTSTART;TZID=America/Chicago:20131101T130000
DTEND;TZID=America/Chicago:20131101T150000
DTSTAMP:20221021T162215
CREATED:20150403T202112Z
LAST-MODIFIED:20150403T202112Z
UID:3415-1383310800-1383318000@www.jfk.org
SUMMARY:Why Storytelling Matters
DESCRIPTION:Journalists share the stage with eyewitnesses who gave oral histories after the tragedy to discuss how original accounts have changed over the years. Some of the Sixth Floor Museum’s extensive archive of oral histories will be featured. Panelists will include The Dallas Morning News’ David Tarrant interviewing eyewitness Bob Miller\, who was the paper’s city editor at the time\, and remembers the “City of Hate” stigma; and the paper’s Dianne Solis talking to Albert Valtierra\, a member of The Mexican American Historical League about the Viva Kennedy clubs. Presented by The Ochberg Society for Trauma Journalism in partnership with The Sixth Floor Museum at Dealey Plaza. \nWatch the video on YouTube.
URL:https://www.jfk.org/event/why-storytelling-matters/
LOCATION:The Sixth Floor Museum at Dealey Plaza\, 411 Elm St.\, Dallas\, TX\, 75202\, United States
END:VEVENT
BEGIN:VEVENT
DTSTART;TZID=America/Chicago:20131101T100000
DTEND;TZID=America/Chicago:20131101T120000
DTSTAMP:20221021T162215
CREATED:20150403T201948Z
LAST-MODIFIED:20150403T201948Z
UID:3414-1383300000-1383307200@www.jfk.org
SUMMARY:Images that Shape History
DESCRIPTION:Photojournalists whose iconic images of tragic events share what it’s like to witness history through a camera lens\, reflect on why their images have proved so enduring\, and offer insight on why pictures have so much power to shape our understanding of tragedy. Panelists include Bob Jackson\, formerly of The Dallas Times-Herald\, who witnessed the killing of Lee Harvey Oswald and took Pulitzer Prize-winning photos of the events that day\, and John Moore of Getty Images\, an Irving native who photographed the assassination of Benazir Bhutto. A third Pulitzer Prize-winning photojournalist\, Kim Komenich\, formerly of the San Francisco Chronicle and now at San Jose State University\, moderated. Presented by The Ochberg Society for Trauma Journalism in partnership with The Sixth Floor Museum at Dealey Plaza. \nWatch the video on YouTube.
URL:https://www.jfk.org/event/images-that-shape-history/
LOCATION:The Sixth Floor Museum at Dealey Plaza\, 411 Elm St.\, Dallas\, TX\, 75202\, United States
END:VEVENT
BEGIN:VEVENT
DTSTART;TZID=America/Chicago:20131026T190000
DTEND;TZID=America/Chicago:20131026T200000
DTSTAMP:20221021T162215
CREATED:20150403T201653Z
LAST-MODIFIED:20150403T201653Z
UID:3412-1382814000-1382817600@www.jfk.org
SUMMARY:LIFE: The Day Kennedy Died
DESCRIPTION:Dick Stolley\, Bob Sullivan\, Jim Baker and Alexandra Zapruder discussed and signed copies of their new book\, “LIFE The Day Kennedy Died: Fifty Years Later: LIFE Remembers the Man and the Moment.” \nWatch the video on YouTube.
URL:https://www.jfk.org/event/life-the-day-kennedy-died/
LOCATION:The Sixth Floor Museum at Dealey Plaza\, 411 Elm St.\, Dallas\, TX\, 75202\, United States
END:VEVENT
BEGIN:VEVENT
DTSTART;TZID=America/Chicago:20131019T190000
DTEND;TZID=America/Chicago:20131019T200000
DTSTAMP:20221021T162215
CREATED:20150403T201353Z
LAST-MODIFIED:20150403T201353Z
UID:3411-1382209200-1382212800@www.jfk.org
SUMMARY:When The News Went Live!
DESCRIPTION:Former KRLD journalists Bob Huffaker\, Bill Mercer and Wes Wise were joined by former KRLD photographer George Phenix as they discuss memories of covering the Kennedy assassination in a new edition of their book\, “When the News Went Live: Dallas\, 1963”. \nWatch the video on YouTube.
URL:https://www.jfk.org/event/when-the-news-went-live/
LOCATION:The Sixth Floor Museum at Dealey Plaza\, 411 Elm St.\, Dallas\, TX\, 75202\, United States
END:VEVENT
BEGIN:VEVENT
DTSTART;TZID=America/Chicago:20131012T140000
DTEND;TZID=America/Chicago:20131012T150000
DTSTAMP:20221021T162215
CREATED:20150403T201132Z
LAST-MODIFIED:20150403T201132Z
UID:3410-1381586400-1381590000@www.jfk.org
SUMMARY:2013 Living History Series – Ferd Kaufman
DESCRIPTION:As Associated Press photographer\, Kaufman was at the Fort Worth breakfast and Trade Mart luncheon on November 22\, 1963. He took one of the first photos of Lee Harvey Oswald in custody and covered the Jack Ruby trial. \nWatch the video on YouTube.
URL:https://www.jfk.org/event/2013-living-history-series-ferd-kaufman/
LOCATION:The Sixth Floor Museum at Dealey Plaza\, 411 Elm St.\, Dallas\, TX\, 75202\, United States
END:VEVENT
BEGIN:VEVENT
DTSTART;TZID=America/Chicago:20131011T100000
DTEND;TZID=America/Chicago:20131011T150000
DTSTAMP:20221021T162215
CREATED:20150403T195938Z
LAST-MODIFIED:20150403T200925Z
UID:3408-1381485600-1381503600@www.jfk.org
SUMMARY:The Work of the Warren Commission\, Half a Century On:  Its Methods\, Successes & Questions
DESCRIPTION:The President’s Commission on the Assassination of President Kennedy—known as the Warren Commission—was established by President Lyndon B. Johnson on November 29\, 1963. The Commission’s findings were submitted to President Johnson on September 24\, 1964\, and have been debated ever since. This unprecedented panel convenes several members of the Warren Commission staff to discuss their roles on the Commission and how the experience affected their professional lives. The program will be held at Southern Methodist University’s Martha Proctor Mack Grand Ballroom. Presented by the SMU Dedman School of Law\, the John G. Tower Center for Political Studies and The Sixth Floor Museum at Dealey Plaza. \nWatch Part 1 on YouTube. \nWatch Part 2 on Youtube.
URL:https://www.jfk.org/event/the-work-of-the-warren-commission-half-a-century-on-its-methods-successes-questions/
LOCATION:SMU Mack Ballroom\, 3300 Dyer St.\, Dallas\, TX\, 75205\, United States
END:VEVENT
BEGIN:VEVENT
DTSTART;TZID=America/Chicago:20131005T130000
DTEND;TZID=America/Chicago:20131005T140000
DTSTAMP:20221021T162215
CREATED:20151022T202658Z
LAST-MODIFIED:20151022T202824Z
UID:5454-1380978000-1380981600@www.jfk.org
SUMMARY:Program and Book Signing with Hugh Aynesworth
DESCRIPTION:Journalist Hugh Aynesworth covered the Kennedy assassination for the Dallas Morning News. Aynesworth later worked for the Washington Times\, Newsweek magazine\, and ABC’s 20/20. He shared memories of the assassination and signed copies of his book\, November 22\, 1963: Witness to History.
URL:https://www.jfk.org/event/program-and-book-signing-with-hugh-aynesworth/
LOCATION:The Sixth Floor Museum at Dealey Plaza\, 411 Elm St.\, Dallas\, TX\, 75202\, United States
END:VEVENT
BEGIN:VEVENT
DTSTART;TZID=America/Chicago:20130924T190000
DTEND;TZID=America/Chicago:20130924T200000
DTSTAMP:20221021T162215
CREATED:20150403T195500Z
LAST-MODIFIED:20150403T195500Z
UID:3407-1380049200-1380052800@www.jfk.org
SUMMARY:Parkland Hospital - Trauma Room One Reunion
DESCRIPTION:Within six minutes of the shooting in Dealey Plaza\, the presidential limousine carrying President John F. Kennedy and Governor John Connally arrived at the Emergency Room entrance to Parkland Memorial Hospital. A team of doctors worked in vain to save the life of the president. Join us for a panel discussion with Dr. Ronald C. Jones and Dr. Robert N. McClelland\, two of the physicians who contributed to the president’s treatment in Trauma Room One as they share their memories from the weekend of November 22\, 1963. Moderated by WFAA-TV’s John McCaa. \nWatch the video on YouTube.
URL:https://www.jfk.org/event/parkland-hospital-trauma-room-one-reunion/
LOCATION:The Sixth Floor Museum at Dealey Plaza\, 411 Elm St.\, Dallas\, TX\, 75202\, United States
END:VEVENT
BEGIN:VEVENT
DTSTART;TZID=America/Chicago:20130914T140000
DTEND;TZID=America/Chicago:20130914T150000
DTSTAMP:20221021T162215
CREATED:20150403T194846Z
LAST-MODIFIED:20150403T194846Z
UID:3406-1379167200-1379170800@www.jfk.org
SUMMARY:2013 Living History Series – Walter Mears
DESCRIPTION:A Pulitzer Prize-winning political reporter for the Associated Press for more than 40 years\, Mears covered every presidential election from 1960 to 2000. He later wrote “The Kennedy Brothers” (2009). \nWatch the video on YouTube.
URL:https://www.jfk.org/event/2013-living-history-series-walter-mears/
LOCATION:The Sixth Floor Museum at Dealey Plaza\, 411 Elm St.\, Dallas\, TX\, 75202\, United States
END:VEVENT
BEGIN:VEVENT
DTSTART;TZID=America/Chicago:20130824T140000
DTEND;TZID=America/Chicago:20130824T150000
DTSTAMP:20221021T162215
CREATED:20150403T194703Z
LAST-MODIFIED:20150403T194703Z
UID:3405-1377352800-1377356400@www.jfk.org
SUMMARY:2013 Living History Series – Dr. Thomas McConnell
DESCRIPTION:A Dallas native\, Dr. McConnell was Medical Officer of the Day at the Pentagon on November 22\, 1963\, and was assigned duties at the White House\, U.S. Capitol and Arlington National Cemetery that weekend. \nWatch the video on YouTube.
URL:https://www.jfk.org/event/2013-living-history-series-dr-thomas-mcconnell/
LOCATION:The Sixth Floor Museum at Dealey Plaza\, 411 Elm St.\, Dallas\, TX\, 75202\, United States
END:VEVENT
BEGIN:VEVENT
DTSTART;TZID=America/Chicago:20130712T140000
DTEND;TZID=America/Chicago:20130712T150000
DTSTAMP:20221021T162215
CREATED:20150403T194530Z
LAST-MODIFIED:20150403T194938Z
UID:3404-1373637600-1373641200@www.jfk.org
SUMMARY:2013 Living History Series – Buell Wesley Frazier
DESCRIPTION:An employee of the Texas School Book Depository\, Frazier occasionally drove Lee Harvey Oswald to work\, including the day of November 22\, 1963. Frazier witnessed the assassination and was questioned extensively by Dallas investigators. \nWatch the video on YouTube.
URL:https://www.jfk.org/event/2013-living-history-series-buell-wesley-frazier/
LOCATION:The Sixth Floor Museum at Dealey Plaza\, 411 Elm St.\, Dallas\, TX\, 75202\, United States
END:VEVENT
BEGIN:VEVENT
DTSTART;TZID=America/Chicago:20130608T140000
DTEND;TZID=America/Chicago:20130608T150000
DTSTAMP:20221021T162215
CREATED:20150403T194425Z
LAST-MODIFIED:20150403T194923Z
UID:3403-1370700000-1370703600@www.jfk.org
SUMMARY:2013 Living History Series – Ernest McMillan
DESCRIPTION:During the 1960s\, McMillan was a prominent member of the Student Nonviolent Coordinating Committee. He was an outspoken African-American activist attending Morehouse College in Atlanta at the time of President Kennedy’s assassination. \nWatch the video on YouTube.
URL:https://www.jfk.org/event/2013-living-history-series-ernest-mcmillan/
LOCATION:The Sixth Floor Museum at Dealey Plaza\, 411 Elm St.\, Dallas\, TX\, 75202\, United States
END:VEVENT
BEGIN:VEVENT
DTSTART;TZID=America/Chicago:20130529T190000
DTEND;TZID=America/Chicago:20130529T200000
DTSTAMP:20221021T162215
CREATED:20150403T194256Z
LAST-MODIFIED:20150403T194256Z
UID:3402-1369854000-1369857600@www.jfk.org
SUMMARY:Assassination and Commemoration: A Conversation with Stephen Fagin\, Conover Hunt and Lindalyn Adams
DESCRIPTION:Learn about the history and development of The Sixth Floor Museum at Dealey Plaza during this special conversation between Museum Associate Curator Stephen Fagin and the Museum’s two key founders\, historian Conover Hunt and preservation activist Lindalyn Adams. The program marks the publication of Fagin’s new book\, Assassination and Commemoration: JFK\, Dallas\, and The Sixth Floor Museum at Dealey Plaza\, available for purchase exclusively at the Museum beginning May 24. \nWatch the video on YouTube.
URL:https://www.jfk.org/event/assassination-and-commemoration-a-conversation-with-stephen-fagin-conover-hunt-and-lindalyn-adams/
LOCATION:The Sixth Floor Museum at Dealey Plaza\, 411 Elm St.\, Dallas\, TX\, 75202\, United States
END:VEVENT
BEGIN:VEVENT
DTSTART;TZID=America/Chicago:20130511T140000
DTEND;TZID=America/Chicago:20130511T150000
DTSTAMP:20221021T162215
CREATED:20150403T193825Z
LAST-MODIFIED:20150403T193825Z
UID:3401-1368280800-1368284400@www.jfk.org
SUMMARY:2013 Living History Series – Major William F. Lee
DESCRIPTION:While a lieutenant in the U.S. Marine Corps in 1962\, Major Lee served on the “Death Watch” for the late President Kennedy’s casket at the White House and U.S. Capitol Rotunda. \nWatch the video on YouTube.
URL:https://www.jfk.org/event/2013-living-history-series-major-william-f-lee/
LOCATION:The Sixth Floor Museum at Dealey Plaza\, 411 Elm St.\, Dallas\, TX\, 75202\, United States
END:VEVENT
END:VCALENDAR