BEGIN:VCALENDAR
VERSION:2.0
PRODID:-//The Sixth Floor Museum at Dealey Plaza - ECPv6.0.2//NONSGML v1.0//EN
CALSCALE:GREGORIAN
METHOD:PUBLISH
X-WR-CALNAME:The Sixth Floor Museum at Dealey Plaza
X-ORIGINAL-URL:https://www.jfk.org
X-WR-CALDESC:Events for The Sixth Floor Museum at Dealey Plaza
REFRESH-INTERVAL;VALUE=DURATION:PT1H
X-Robots-Tag:noindex
X-PUBLISHED-TTL:PT1H
BEGIN:VTIMEZONE
TZID:America/Chicago
BEGIN:DAYLIGHT
TZOFFSETFROM:-0600
TZOFFSETTO:-0500
TZNAME:CDT
DTSTART:20100314T080000
END:DAYLIGHT
BEGIN:STANDARD
TZOFFSETFROM:-0500
TZOFFSETTO:-0600
TZNAME:CST
DTSTART:20101107T070000
END:STANDARD
BEGIN:DAYLIGHT
TZOFFSETFROM:-0600
TZOFFSETTO:-0500
TZNAME:CDT
DTSTART:20110313T080000
END:DAYLIGHT
BEGIN:STANDARD
TZOFFSETFROM:-0500
TZOFFSETTO:-0600
TZNAME:CST
DTSTART:20111106T070000
END:STANDARD
BEGIN:DAYLIGHT
TZOFFSETFROM:-0600
TZOFFSETTO:-0500
TZNAME:CDT
DTSTART:20120311T080000
END:DAYLIGHT
BEGIN:STANDARD
TZOFFSETFROM:-0500
TZOFFSETTO:-0600
TZNAME:CST
DTSTART:20121104T070000
END:STANDARD
BEGIN:DAYLIGHT
TZOFFSETFROM:-0600
TZOFFSETTO:-0500
TZNAME:CDT
DTSTART:20130310T080000
END:DAYLIGHT
BEGIN:STANDARD
TZOFFSETFROM:-0500
TZOFFSETTO:-0600
TZNAME:CST
DTSTART:20131103T070000
END:STANDARD
END:VTIMEZONE
BEGIN:VEVENT
DTSTART;TZID=America/Chicago:20130413T140000
DTEND;TZID=America/Chicago:20130413T150000
DTSTAMP:20221021T162746
CREATED:20150403T193703Z
LAST-MODIFIED:20150403T193703Z
UID:3400-1365861600-1365865200@www.jfk.org
SUMMARY:2013 Living History Series – Wilborn Hampton
DESCRIPTION:The youngest United Press International reporter at the Dallas bureau in 1963\, Hampton covered suspect Lee Harvey Oswald at Dallas Police Headquarters. He later wrote a young adult history book\, “Kennedy Assassinated! The World Mourns: A Reporter’s Story” (1997). \nWatch the video on YouTube.
URL:https://www.jfk.org/event/2013-living-history-series-wilborn-hampton/
LOCATION:The Sixth Floor Museum at Dealey Plaza\, 411 Elm St.\, Dallas\, TX\, 75202\, United States
END:VEVENT
BEGIN:VEVENT
DTSTART;TZID=America/Chicago:20130310T120000
DTEND;TZID=America/Chicago:20130310T170000
DTSTAMP:20221021T162746
CREATED:20150403T193530Z
LAST-MODIFIED:20150403T193530Z
UID:3398-1362916800-1362934800@www.jfk.org
SUMMARY:CSI Family Day
DESCRIPTION:Learn about modern investigative techniques of crime solving during CSI Family Day. It’s a fun afternoon for youth groups\, families and children 8 years and older interested in crime investigation.
URL:https://www.jfk.org/event/csi-family-day-5/
LOCATION:The Sixth Floor Museum at Dealey Plaza\, 411 Elm St.\, Dallas\, TX\, 75202\, United States
END:VEVENT
BEGIN:VEVENT
DTSTART;TZID=America/Chicago:20130219T190000
DTEND;TZID=America/Chicago:20130219T200000
DTSTAMP:20221021T162746
CREATED:20150403T192552Z
LAST-MODIFIED:20150403T192552Z
UID:3397-1361300400-1361304000@www.jfk.org
SUMMARY:JFK\, History and the Politics of Memory
DESCRIPTION:As we change\, so do our memories. While Dallas and the world prepare to mark the 50th anniversary of President John F. Kennedy’s assassination\, it is worth reflecting upon how we understand milestones\, the changing nature of history\, and our own recollections. Join three pre-eminent historians of American history for a conversation exploring the role that the politics of memory plays in understanding the past. Presented by The Sixth Floor Museum at Dealey Plaza\, John G. Tower Center for Political Studies and SMU’s Center for Presidential History. \nWatch the video on YouTube.
URL:https://www.jfk.org/event/jfk-history-and-the-politics-of-memory/
LOCATION:The Sixth Floor Museum at Dealey Plaza\, 411 Elm St.\, Dallas\, TX\, 75202\, United States
END:VEVENT
BEGIN:VEVENT
DTSTART;TZID=America/Chicago:20130209T140000
DTEND;TZID=America/Chicago:20130209T150000
DTSTAMP:20221021T162746
CREATED:20150403T180018Z
LAST-MODIFIED:20150403T195209Z
UID:3375-1360418400-1360422000@www.jfk.org
SUMMARY:2013 Living History Series – J. Waymon Rose
DESCRIPTION:Selected as the tenth juror in the Jack Ruby trial in 1964\, Rose kept a diary throughout the trial. The diary and other items from Rose are now part of the Museum’s collection. \nWatch the video on YouTube.
URL:https://www.jfk.org/event/2013-living-history-series-j-waymon-rose/
LOCATION:The Sixth Floor Museum at Dealey Plaza\, 411 Elm St.\, Dallas\, TX\, 75202\, United States
END:VEVENT
BEGIN:VEVENT
DTSTART;TZID=America/Chicago:20130112T140000
DTEND;TZID=America/Chicago:20130112T150000
DTSTAMP:20221021T162746
CREATED:20150403T175830Z
LAST-MODIFIED:20150403T175830Z
UID:3374-1357999200-1358002800@www.jfk.org
SUMMARY:2013 Living History Series – The Reverend Bill McElvaney
DESCRIPTION:A Dallas-based pastor\, the Rev. McElvaney was involved in the 1960s desegregation of schools in Mesquite\, Texas\, and later participated in Vietnam War protests in Dealey Plaza. \nWatch the video on YouTube.
URL:https://www.jfk.org/event/2013-living-history-series-the-reverend-bill-mcelvaney/
LOCATION:The Sixth Floor Museum at Dealey Plaza\, 411 Elm St.\, Dallas\, TX\, 75202\, United States
END:VEVENT
BEGIN:VEVENT
DTSTART;TZID=America/Chicago:20121110T190000
DTEND;TZID=America/Chicago:20121110T200000
DTSTAMP:20221021T162746
CREATED:20150403T175659Z
LAST-MODIFIED:20150403T175659Z
UID:3373-1352574000-1352577600@www.jfk.org
SUMMARY:"Oswald Has Been Shot!" – Memories from November 24\, 1963
DESCRIPTION:Hear from a collection of law enforcement officials\, photographers and reporters who were at or near Dallas Police Headquarters when Lee Harvey Oswald was shot by nightclub owner Jack Ruby. Featured panelists included Gary DeLaune\, Bob Huffaker\, Bob Jackson\, James Leavelle and Fred Rheinstein. Moderated by WFAA-TV’s Gloria Campos. \nWatch the video on YouTube.
URL:https://www.jfk.org/event/oswald-has-been-shot-memories-from-november-24-1963/
LOCATION:The Sixth Floor Museum at Dealey Plaza\, 411 Elm St.\, Dallas\, TX\, 75202\, United States
END:VEVENT
BEGIN:VEVENT
DTSTART;TZID=America/Chicago:20121109T190000
DTEND;TZID=America/Chicago:20121109T200000
DTSTAMP:20221021T162746
CREATED:20150403T175538Z
LAST-MODIFIED:20150403T175538Z
UID:3372-1352487600-1352491200@www.jfk.org
SUMMARY:Living History with Bill and Gayle Newman
DESCRIPTION:The closest civilian eyewitnesses to President Kennedy at the time of the fatal shot\, the Newmans were on the north side of Dealey Plaza and shielded their small children after the shots were fired. They were then interviewed on live television approximately fifteen minutes after the assassination.
URL:https://www.jfk.org/event/living-history-with-bill-and-gayle-newman/
LOCATION:The Sixth Floor Museum at Dealey Plaza\, 411 Elm St.\, Dallas\, TX\, 75202\, United States
END:VEVENT
BEGIN:VEVENT
DTSTART;TZID=America/Chicago:20120608T190000
DTEND;TZID=America/Chicago:20120608T200000
DTSTAMP:20221021T162746
CREATED:20150403T175411Z
LAST-MODIFIED:20150403T175411Z
UID:3371-1339182000-1339185600@www.jfk.org
SUMMARY:Living History with Raymond “Sonny” Fisher
DESCRIPTION:The only full-time Tarrant County deputy sheriff in 1963\, Sonny Fisher was on horseback outside the Hotel Texas on the morning of the assassination. President Kennedy was photographed with Fisher and his horse\, Snuffy.
URL:https://www.jfk.org/event/living-history-with-raymond-sonny-fisher/
LOCATION:The Sixth Floor Museum at Dealey Plaza\, 411 Elm St.\, Dallas\, TX\, 75202\, United States
END:VEVENT
BEGIN:VEVENT
DTSTART;TZID=America/Chicago:20120529T190000
DTEND;TZID=America/Chicago:20120529T200000
DTSTAMP:20221021T162746
CREATED:20150403T174959Z
LAST-MODIFIED:20150403T175020Z
UID:3370-1338318000-1338321600@www.jfk.org
SUMMARY:Jack Kennedy: Elusive Hero - A Conversation with Chris Matthews
DESCRIPTION:Moderated by KERA’s Lee Cullum\, Matthews discussed President Kennedy’s enduring legacy and the current state of politics in this momentous presidential election year. “Jack Kennedy: Elusive Hero” is based on personal interviews with those closest to President Kennedy\, oral histories\, documents from his years as a student at Choate and notes from Jacqueline Kennedy’s first interview after Dallas. Matthews examines the 35th president’s role in the genesis of the Peace Corps\, his stand in civil rights\, his push to put a man on the moon and his ban on nuclear arms testing. As Matthews writes\, “I found a fighting prince never free of pain\, never far from trouble\, never accepting the world he found\, never wanting to be his father’s son. He was a far greater hero than he ever wished us to know.” \nWatch the video on YouTube.
URL:https://www.jfk.org/event/a-conversation-and-book-signing-with-chris-matthews/
LOCATION:The Sixth Floor Museum at Dealey Plaza\, 411 Elm St.\, Dallas\, TX\, 75202\, United States
END:VEVENT
BEGIN:VEVENT
DTSTART;TZID=America/Chicago:20120419T190000
DTEND;TZID=America/Chicago:20120419T200000
DTSTAMP:20221021T162746
CREATED:20150403T174748Z
LAST-MODIFIED:20150403T174748Z
UID:3369-1334862000-1334865600@www.jfk.org
SUMMARY:Discussion and Book Signing with Clint Hill
DESCRIPTION:For four years\, from the election of John Fitzgerald Kennedy in November 1960 until after the election of Lyndon Johnson in 1964\, Clint Hill was the Secret Service agent assigned to guard Jacqueline Bouvier Kennedy. During that time\, he went from being a reluctant guardian to a fiercely loyal watchdog and\, in many ways\, her closest friend. Fifty years later\, Clint Hill tells his story for the first time\, offering a tender\, enthralling and tragic portrayal of how a Secret Service agent who started life in a North Dakota orphanage became the most trusted man in the life of the First Lady. Filled with unforgettable details\, this is the once-in-a-lifetime story of a man doing the most exciting job in the world\, with a woman all the world loved\, and the tragedy that ended it all too soon — a tragedy that haunted him for fifty years.
URL:https://www.jfk.org/event/discussion-and-book-signing-with-clint-hill/
LOCATION:The Sixth Floor Museum at Dealey Plaza\, 411 Elm St.\, Dallas\, TX\, 75202\, United States
END:VEVENT
BEGIN:VEVENT
DTSTART;TZID=America/Chicago:20120413T190000
DTEND;TZID=America/Chicago:20120413T200000
DTSTAMP:20221021T162746
CREATED:20150403T174652Z
LAST-MODIFIED:20150403T174652Z
UID:3368-1334343600-1334347200@www.jfk.org
SUMMARY:Meet the Museum – Teaching about the President
DESCRIPTION:Discover how educators at history museums and archives convey the complex stories of the American presidents with students of all ages in this panel conversation with staff from The Sixth Floor Museum\, LBJ Library and Museum\, George W. Bush Presidential Library and National Archives and Records Administration Fort Worth.
URL:https://www.jfk.org/event/meet-the-museum-teaching-about-the-president/
LOCATION:The Sixth Floor Museum at Dealey Plaza\, 411 Elm St.\, Dallas\, TX\, 75202\, United States
END:VEVENT
BEGIN:VEVENT
DTSTART;TZID=America/Chicago:20120319T120000
DTEND;TZID=America/Chicago:20120319T170000
DTSTAMP:20221021T162746
CREATED:20150403T174552Z
LAST-MODIFIED:20151022T200154Z
UID:3367-1332158400-1332176400@www.jfk.org
SUMMARY:CSI Family Day
DESCRIPTION:For the 6th straight year\, CSI Family Day gives guests the chance to examine a mock crime scene\, perform forensic analysis at evidence stations and solve a hypothetical crime. It’s a fun and engaging way to learn about modern investigative techniques and the real-life challenges to solving crime. Free with paid admission to the Museum\, CSI Family Day is presented in partnership with the University of North Texas Forensic Science Club.
URL:https://www.jfk.org/event/csi-family-day-4/
LOCATION:The Sixth Floor Museum at Dealey Plaza\, 411 Elm St.\, Dallas\, TX\, 75202\, United States
END:VEVENT
BEGIN:VEVENT
DTSTART;TZID=America/Chicago:20120309T190000
DTEND;TZID=America/Chicago:20120309T200000
DTSTAMP:20221021T162746
CREATED:20150403T172556Z
LAST-MODIFIED:20150403T172556Z
UID:3365-1331319600-1331323200@www.jfk.org
SUMMARY:Living History with Phyllis Hall
DESCRIPTION:A nurse at Parkland Hospital in 1963\, Phyllis Hall was an observer and participant in Trauma Room One during the treatment of President Kennedy. \nWatch the video on YouTube.
URL:https://www.jfk.org/event/living-history-with-phyllis-hall/
LOCATION:The Sixth Floor Museum at Dealey Plaza\, 411 Elm St.\, Dallas\, TX\, 75202\, United States
END:VEVENT
BEGIN:VEVENT
DTSTART;TZID=America/Chicago:20120221T190000
DTEND;TZID=America/Chicago:20120221T200000
DTSTAMP:20221021T162746
CREATED:20150403T171918Z
LAST-MODIFIED:20150403T171918Z
UID:3364-1329850800-1329854400@www.jfk.org
SUMMARY:The Vital South and Presidential Elections\, 1960 – 2012
DESCRIPTION:To commemorate Presidents Day\, The Sixth Floor Museum at Dealey Plaza is collaborating with SMU’s Tower Center for a discussion titled The Vital South and Presidential Elections\, 1960 – 2012. In 1960\, John F. Kennedy was elected to the White House in one of the closest contests in American electoral history. The South was instrumental in this victory. Kennedy won the popular vote in seven states of the former Confederacy\, including Texas. In this program\, Professors Earl Black and Merle Black\, brothers and authors of several books on Southern politics\, discussed how Southern politics have changed since 1960 and the growing importance of the South in presidential elections and national politics. The discussion was moderated by Dennis Simon\, Professor of Political Science at Southern Methodist University. \nWatch the video on YouTube.
URL:https://www.jfk.org/event/the-vital-south-and-presidential-elections-1960-2012/
LOCATION:The Sixth Floor Museum at Dealey Plaza\, 411 Elm St.\, Dallas\, TX\, 75202\, United States
END:VEVENT
BEGIN:VEVENT
DTSTART;TZID=America/Chicago:20120113T190000
DTEND;TZID=America/Chicago:20120113T200000
DTSTAMP:20221021T162746
CREATED:20150403T171502Z
LAST-MODIFIED:20150403T171502Z
UID:3363-1326481200-1326484800@www.jfk.org
SUMMARY:Living History with Bob Ray Sanders
DESCRIPTION:A respected longtime newspaper\, radio and television journalist in the Dallas-Fort Worth area\, Sanders was attending high school at an African-American school in Fort Worth in 1963. On Thanksgiving Day that year\, his marching band performed a memorial tribute to President Kennedy. Sanders was later an active supporter of the civil rights and peace movements of the 1960s and 1970s. \nWatch this video on YouTube.
URL:https://www.jfk.org/event/living-history-with-bob-ray-sanders/
LOCATION:The Sixth Floor Museum at Dealey Plaza\, 411 Elm St.\, Dallas\, TX\, 75202\, United States
END:VEVENT
BEGIN:VEVENT
DTSTART;TZID=America/Chicago:20111210T190000
DTEND;TZID=America/Chicago:20111210T200000
DTSTAMP:20221021T162746
CREATED:20150403T171326Z
LAST-MODIFIED:20150403T171326Z
UID:3362-1323543600-1323547200@www.jfk.org
SUMMARY:JFK Assassination Logic: Evaluating Conflicting Evidence
DESCRIPTION:Marquette University political scientist Dr. John McAdams addressed how to think\, reason and understand conspiracy theories about the Kennedy assassination. Museum Curator Gary Mack moderated the conversation with Dr. McAdams\, which provided a blueprint for understanding why conspiracy theories arise and how to evaluate their often contradictory claims.
URL:https://www.jfk.org/event/jfk-assassination-logic-evaluating-conflicting-evidence/
LOCATION:The Sixth Floor Museum at Dealey Plaza\, 411 Elm St.\, Dallas\, TX\, 75202\, United States
END:VEVENT
BEGIN:VEVENT
DTSTART;TZID=America/Chicago:20111119T190000
DTEND;TZID=America/Chicago:20111119T200000
DTSTAMP:20221021T162746
CREATED:20150403T171144Z
LAST-MODIFIED:20150403T171144Z
UID:3361-1321729200-1321732800@www.jfk.org
SUMMARY:Zapruder and Stolley: Witness to an Assassination
DESCRIPTION:On November 22\, 1963 Dick Stolley\, Los Angeles bureau chief for Life Magazine\, was urgently summoned to the ticker tape machine: “The President has been shot\,” he was told. He jumped on a plane to Dallas\, tracked down Abraham Zapruder and managed to secure the rights to his home movie film\, the only eyewitness film to capture the entire assassination. A few years ago\, Dick sat down and recounted this story from his point of view. In a gripping 35-minute conversation\, Dick recounts how he followed a tip that led him to Zapruder. \nFollowing the world premiere of “Zapruder and Stolley: Witness to an Assassination”\, Dick Stolley and Museum Curator Gary Mack discussed the film. \nWatch this video on YouTube.
URL:https://www.jfk.org/event/zapruder-and-stolley-witness-to-an-assassination/
LOCATION:The Sixth Floor Museum at Dealey Plaza\, 411 Elm St.\, Dallas\, TX\, 75202\, United States
END:VEVENT
BEGIN:VEVENT
DTSTART;TZID=America/Chicago:20111110T190000
DTEND;TZID=America/Chicago:20111110T200000
DTSTAMP:20221021T162746
CREATED:20150403T170757Z
LAST-MODIFIED:20150403T170757Z
UID:3360-1320951600-1320955200@www.jfk.org
SUMMARY:A Conversation with Stephen King
DESCRIPTION:On November 22\, 1963\, President John F. Kennedy was assassinated in downtown Dallas. If you had the chance to change history\, would you? Stephen King’s latest novel “11/22/63” addresses this very scenario as the book’s main character travels back in time on a mission to prevent the assassination of President Kennedy. \nIn what is expected to be a sell-out event\, King will be front and center at a fundraiser at the Majestic Theatre in Dallas on Thursday\, November 10\, benefiting The Sixth Floor Museum at Dealey Plaza. There will be an exclusive reception featuring the author at 5:45 p.m. followed by an interview with King at 7 p.m. The conversation will be facilitated by Dallas columnist and broadcaster Lee Cullum. \nWatch this video on YouTube.
URL:https://www.jfk.org/event/a-conversation-with-stephen-king/
LOCATION:TX
END:VEVENT
BEGIN:VEVENT
DTSTART;TZID=America/Chicago:20110812T190000
DTEND;TZID=America/Chicago:20110812T200000
DTSTAMP:20221021T162746
CREATED:20150403T170633Z
LAST-MODIFIED:20150403T170633Z
UID:3359-1313175600-1313179200@www.jfk.org
SUMMARY:Meet the Museum – Voices: An Oral History of November 22\, 1963
DESCRIPTION:Journey back to the day of President Kennedy’s assassination and experience the emotion of this historic event through still photography and firsthand accounts. More than 60 photographs from the Museum collections provide the backdrop to a dramatic voice over by the Museum’s Associate Curator Stephen Fagin\, who draws upon over 35 oral history interviews.
URL:https://www.jfk.org/event/meet-the-museum-voices-an-oral-history-of-november-22-1963-3/
LOCATION:The Sixth Floor Museum at Dealey Plaza\, 411 Elm St.\, Dallas\, TX\, 75202\, United States
END:VEVENT
BEGIN:VEVENT
DTSTART;TZID=America/Chicago:20110708T190000
DTEND;TZID=America/Chicago:20110708T200000
DTSTAMP:20221021T162746
CREATED:20150403T170512Z
LAST-MODIFIED:20150403T170512Z
UID:3358-1310151600-1310155200@www.jfk.org
SUMMARY:Meet the Museum – Discover the Museum: CSI
DESCRIPTION:The Museum’s collection includes artifacts\, photographs and films related to the assassination crime scene investigation at the Texas School Book Depository. Learn exactly what was in the crime scene investigative kit that belonged to Lt. Carl Day\, head of the Dallas Police Crime Scene Search Unit in 1963.
URL:https://www.jfk.org/event/meet-the-museum-discover-the-museum-csi-2/
LOCATION:The Sixth Floor Museum at Dealey Plaza\, 411 Elm St.\, Dallas\, TX\, 75202\, United States
END:VEVENT
BEGIN:VEVENT
DTSTART;TZID=America/Chicago:20110610T190000
DTEND;TZID=America/Chicago:20110610T200000
DTSTAMP:20221021T162746
CREATED:20150403T170418Z
LAST-MODIFIED:20150403T170418Z
UID:3357-1307732400-1307736000@www.jfk.org
SUMMARY:Meet the Museum – Collections Spotlight: Civil Rights
DESCRIPTION:The Museum’s collection of civil rights materials includes historic photographs of Dallas’ Piccadilly Cafeteria desegregation protests in 1964\, oral histories with members of the Student Non-Violent Coordinating Committee\, as well as a civil rights training handbook and activist support poster. Collections Manager Lindsey Richardson shared these amazing\, rarely-seen items.
URL:https://www.jfk.org/event/meet-the-museum-collections-spotlight-civil-rights/
LOCATION:The Sixth Floor Museum at Dealey Plaza\, 411 Elm St.\, Dallas\, TX\, 75202\, United States
END:VEVENT
BEGIN:VEVENT
DTSTART;TZID=America/Chicago:20110527T190000
DTEND;TZID=America/Chicago:20110527T200000
DTSTAMP:20221021T162746
CREATED:20150403T170242Z
LAST-MODIFIED:20150403T170242Z
UID:3356-1306522800-1306526400@www.jfk.org
SUMMARY:Living History with Col. Walt Cunningham\, Apollo 7 Astronaut
DESCRIPTION:America’s second civilian astronaut\, Walt Cunningham in 1968 was the lunar module pilot for Apollo 7\, the first manned mission in the Apollo program. He joined NASA in October 1963\, less than one month before the Kennedy assassination. \nWatch the video on YouTube.
URL:https://www.jfk.org/event/living-history-with-col-walt-cunningham-apollo-7-astronaut/
LOCATION:The Sixth Floor Museum at Dealey Plaza\, 411 Elm St.\, Dallas\, TX\, 75202\, United States
END:VEVENT
BEGIN:VEVENT
DTSTART;TZID=America/Chicago:20110408T190000
DTEND;TZID=America/Chicago:20110408T200000
DTSTAMP:20221021T162746
CREATED:20150403T170105Z
LAST-MODIFIED:20150403T170105Z
UID:3355-1302289200-1302292800@www.jfk.org
SUMMARY:Meet the Museum – Voices: An Oral History of November 22\, 1963
DESCRIPTION:Journey back to the day of the Kennedy assassination and experience the emotion of that historic event through still photography and firsthand accounts. More than 60 photographs from the Museum collections provide the backdrop to a dramatic voice over by the Museum’s Associate Curator\, Stephen Fagin\, who draws upon over 35 oral history interviews.
URL:https://www.jfk.org/event/meet-the-museum-voices-an-oral-history-of-november-22-1963-2/
LOCATION:The Sixth Floor Museum at Dealey Plaza\, 411 Elm St.\, Dallas\, TX\, 75202\, United States
END:VEVENT
BEGIN:VEVENT
DTSTART;TZID=America/Chicago:20110313T120000
DTEND;TZID=America/Chicago:20110313T170000
DTSTAMP:20221021T162746
CREATED:20150403T170022Z
LAST-MODIFIED:20151022T200143Z
UID:3354-1300017600-1300035600@www.jfk.org
SUMMARY:CSI Family Day
DESCRIPTION:For the 5th straight year\, CSI Family Day gives guests the chance to examine a mock crime scene\, perform forensic analysis at evidence stations and solve a hypothetical crime. It’s a fun and engaging way to learn about modern investigative techniques and the real-life challenges to solving crime.
URL:https://www.jfk.org/event/csi-family-day-3/
LOCATION:The Sixth Floor Museum at Dealey Plaza\, 411 Elm St.\, Dallas\, TX\, 75202\, United States
END:VEVENT
BEGIN:VEVENT
DTSTART;TZID=America/Chicago:20110311T190000
DTEND;TZID=America/Chicago:20110311T200000
DTSTAMP:20221021T162746
CREATED:20150403T165759Z
LAST-MODIFIED:20150403T165759Z
UID:3353-1299870000-1299873600@www.jfk.org
SUMMARY:Meet the Museum – Living History with Allen Mondell
DESCRIPTION:Allen Mondell decided to join the Peace Corps immediately after President Kennedy announced the launch of the program in 1961. He was working as a member of the Peace Corps in Sierra Leone at the time of the assassination. Years later he teamed with his wife Cynthia to write\, produce and direct the documentary films seen in the permanent exhibition at The Sixth Floor Museum. \nWatch the video on YouTube.
URL:https://www.jfk.org/event/meet-the-museum-living-history-with-allen-mondell/
LOCATION:The Sixth Floor Museum at Dealey Plaza\, 411 Elm St.\, Dallas\, TX\, 75202\, United States
END:VEVENT
BEGIN:VEVENT
DTSTART;TZID=America/Chicago:20110305T190000
DTEND;TZID=America/Chicago:20110305T200000
DTSTAMP:20221021T162746
CREATED:20150403T165640Z
LAST-MODIFIED:20150403T165640Z
UID:3352-1299351600-1299355200@www.jfk.org
SUMMARY:50 Years of Service: Peace Corps Volunteers from 1961-2010
DESCRIPTION:President Kennedy launched the Peace Corps in March of 1961 to challenge young Americans to contribute two years of their lives in service to people in developing countries. Fifty years later\, The Peace Corps continues with the same mission\, but with new challenges. Five generations of Peace Corps Volunteers reflect on how the experience changed their lives and made a difference in the countries where they served. \nWatch the video on YouTube.
URL:https://www.jfk.org/event/50-years-of-service-peace-corps-volunteers-from-1961-2010/
LOCATION:The Sixth Floor Museum at Dealey Plaza\, 411 Elm St.\, Dallas\, TX\, 75202\, United States
END:VEVENT
BEGIN:VEVENT
DTSTART;TZID=America/Chicago:20110223T190000
DTEND;TZID=America/Chicago:20110223T200000
DTSTAMP:20221021T162746
CREATED:20150403T165502Z
LAST-MODIFIED:20150403T165502Z
UID:3351-1298487600-1298491200@www.jfk.org
SUMMARY:JFK and LBJ: The Evolution of Presidential Legacies
DESCRIPTION:To commemorate Presidents Day\, The Sixth Floor Museum at Dealey Plaza is collaborating with SMU’s Tower Center to reflect upon a transformative period in United States history. Moderated by Dennis M. Simon\, Professor of Political Science at Southern Methodist University\, panelists discuss how Presidents Kennedy and Johnson responded to landmark events of the era and will consider the ways their decisions continue to influence each president’s evolving legacy. Panelists were Alan C. Lowe\, director of the George W. Bush Presidential Library; Sidney M. Milkis\, Professor of Politics and assistant director\, Miller Center of Public Affairs at the University of Virginia; Mark K. Updegrove\, Director of the Lyndon B. Johnson Library & Museum. \nWatch the video on YouTube.
URL:https://www.jfk.org/event/jfk-and-lbj-the-evolution-of-presidential-legacies/
LOCATION:The Sixth Floor Museum at Dealey Plaza\, 411 Elm St.\, Dallas\, TX\, 75202\, United States
END:VEVENT
BEGIN:VEVENT
DTSTART;TZID=America/Chicago:20110211T190000
DTEND;TZID=America/Chicago:20110211T200000
DTSTAMP:20221021T162746
CREATED:20150403T165302Z
LAST-MODIFIED:20150403T165302Z
UID:3350-1297450800-1297454400@www.jfk.org
SUMMARY:Meet the Museum – Concrete\, Grass\, Bricks: A History of the Museum
DESCRIPTION:In this slide presentation\, Museum Associate Curator Stephen Fagin recounts the fascinating history of The Sixth Floor Museum\, which celebrated 22 years on Presidents Day\, Monday\, February 21\, 2011.
URL:https://www.jfk.org/event/meet-the-museum-concrete-grass-bricks-a-history-of-the-museum/
LOCATION:The Sixth Floor Museum at Dealey Plaza\, 411 Elm St.\, Dallas\, TX\, 75202\, United States
END:VEVENT
BEGIN:VEVENT
DTSTART;TZID=America/Chicago:20110104T190000
DTEND;TZID=America/Chicago:20110104T200000
DTSTAMP:20221021T162746
CREATED:20150403T165216Z
LAST-MODIFIED:20150403T165216Z
UID:3349-1294167600-1294171200@www.jfk.org
SUMMARY:Meet the Museum – Gallery Talk with the Curator
DESCRIPTION:Curator Gary Mack shares stories about Dallas nightclub owner Jack Ruby. Ruby’s life is featured in the Museum’s collections spotlight exhibition Jack Ruby: The Man in That Hat.
URL:https://www.jfk.org/event/meet-the-museum-gallery-talk-with-the-curator/
LOCATION:The Sixth Floor Museum at Dealey Plaza\, 411 Elm St.\, Dallas\, TX\, 75202\, United States
END:VEVENT
BEGIN:VEVENT
DTSTART;TZID=America/Chicago:20101210T190000
DTEND;TZID=America/Chicago:20101210T200000
DTSTAMP:20221021T162746
CREATED:20150403T165017Z
LAST-MODIFIED:20150403T165017Z
UID:3348-1292007600-1292011200@www.jfk.org
SUMMARY:Meet the Museum – Kennedy Scrapbooks: Insights from the Collections Manager
DESCRIPTION:People all over the world created scrapbooks to commemorate President Kennedy’s life and death. A few of those scrapbooks are now part of the Museum collections! Get a rare glimpse at some of our treasures and learn how you can protect your own keepsakes. Presented by Museum Collections Manager Lindsey Richardson.
URL:https://www.jfk.org/event/meet-the-museum-kennedy-scrapbooks-insights-from-the-collections-manager/
LOCATION:The Sixth Floor Museum at Dealey Plaza\, 411 Elm St.\, Dallas\, TX\, 75202\, United States
END:VEVENT
END:VCALENDAR