BEGIN:VCALENDAR
VERSION:2.0
PRODID:-//The Sixth Floor Museum at Dealey Plaza - ECPv6.0.2//NONSGML v1.0//EN
CALSCALE:GREGORIAN
METHOD:PUBLISH
X-ORIGINAL-URL:https://www.jfk.org
X-WR-CALDESC:Events for The Sixth Floor Museum at Dealey Plaza
REFRESH-INTERVAL;VALUE=DURATION:PT1H
X-Robots-Tag:noindex
X-PUBLISHED-TTL:PT1H
BEGIN:VTIMEZONE
TZID:America/Chicago
BEGIN:DAYLIGHT
TZOFFSETFROM:-0600
TZOFFSETTO:-0500
TZNAME:CDT
DTSTART:20080309T080000
END:DAYLIGHT
BEGIN:STANDARD
TZOFFSETFROM:-0500
TZOFFSETTO:-0600
TZNAME:CST
DTSTART:20081102T070000
END:STANDARD
BEGIN:DAYLIGHT
TZOFFSETFROM:-0600
TZOFFSETTO:-0500
TZNAME:CDT
DTSTART:20090308T080000
END:DAYLIGHT
BEGIN:STANDARD
TZOFFSETFROM:-0500
TZOFFSETTO:-0600
TZNAME:CST
DTSTART:20091101T070000
END:STANDARD
BEGIN:DAYLIGHT
TZOFFSETFROM:-0600
TZOFFSETTO:-0500
TZNAME:CDT
DTSTART:20100314T080000
END:DAYLIGHT
BEGIN:STANDARD
TZOFFSETFROM:-0500
TZOFFSETTO:-0600
TZNAME:CST
DTSTART:20101107T070000
END:STANDARD
BEGIN:DAYLIGHT
TZOFFSETFROM:-0600
TZOFFSETTO:-0500
TZNAME:CDT
DTSTART:20110313T080000
END:DAYLIGHT
BEGIN:STANDARD
TZOFFSETFROM:-0500
TZOFFSETTO:-0600
TZNAME:CST
DTSTART:20111106T070000
END:STANDARD
END:VTIMEZONE
BEGIN:VEVENT
DTSTART;TZID=America/Chicago:20110610T190000
DTEND;TZID=America/Chicago:20110610T200000
DTSTAMP:20221021T163011
CREATED:20150403T170418Z
LAST-MODIFIED:20150403T170418Z
UID:3357-1307732400-1307736000@www.jfk.org
SUMMARY:Meet the Museum – Collections Spotlight: Civil Rights
DESCRIPTION:The Museum’s collection of civil rights materials includes historic photographs of Dallas’ Piccadilly Cafeteria desegregation protests in 1964\, oral histories with members of the Student Non-Violent Coordinating Committee\, as well as a civil rights training handbook and activist support poster. Collections Manager Lindsey Richardson shared these amazing\, rarely-seen items.
URL:https://www.jfk.org/event/meet-the-museum-collections-spotlight-civil-rights/
LOCATION:The Sixth Floor Museum at Dealey Plaza\, 411 Elm St.\, Dallas\, TX\, 75202\, United States
END:VEVENT
BEGIN:VEVENT
DTSTART;TZID=America/Chicago:20110527T190000
DTEND;TZID=America/Chicago:20110527T200000
DTSTAMP:20221021T163011
CREATED:20150403T170242Z
LAST-MODIFIED:20150403T170242Z
UID:3356-1306522800-1306526400@www.jfk.org
SUMMARY:Living History with Col. Walt Cunningham\, Apollo 7 Astronaut
DESCRIPTION:America’s second civilian astronaut\, Walt Cunningham in 1968 was the lunar module pilot for Apollo 7\, the first manned mission in the Apollo program. He joined NASA in October 1963\, less than one month before the Kennedy assassination. \nWatch the video on YouTube.
URL:https://www.jfk.org/event/living-history-with-col-walt-cunningham-apollo-7-astronaut/
LOCATION:The Sixth Floor Museum at Dealey Plaza\, 411 Elm St.\, Dallas\, TX\, 75202\, United States
END:VEVENT
BEGIN:VEVENT
DTSTART;TZID=America/Chicago:20110408T190000
DTEND;TZID=America/Chicago:20110408T200000
DTSTAMP:20221021T163011
CREATED:20150403T170105Z
LAST-MODIFIED:20150403T170105Z
UID:3355-1302289200-1302292800@www.jfk.org
SUMMARY:Meet the Museum – Voices: An Oral History of November 22\, 1963
DESCRIPTION:Journey back to the day of the Kennedy assassination and experience the emotion of that historic event through still photography and firsthand accounts. More than 60 photographs from the Museum collections provide the backdrop to a dramatic voice over by the Museum’s Associate Curator\, Stephen Fagin\, who draws upon over 35 oral history interviews.
URL:https://www.jfk.org/event/meet-the-museum-voices-an-oral-history-of-november-22-1963-2/
LOCATION:The Sixth Floor Museum at Dealey Plaza\, 411 Elm St.\, Dallas\, TX\, 75202\, United States
END:VEVENT
BEGIN:VEVENT
DTSTART;TZID=America/Chicago:20110313T120000
DTEND;TZID=America/Chicago:20110313T170000
DTSTAMP:20221021T163011
CREATED:20150403T170022Z
LAST-MODIFIED:20151022T200143Z
UID:3354-1300017600-1300035600@www.jfk.org
SUMMARY:CSI Family Day
DESCRIPTION:For the 5th straight year\, CSI Family Day gives guests the chance to examine a mock crime scene\, perform forensic analysis at evidence stations and solve a hypothetical crime. It’s a fun and engaging way to learn about modern investigative techniques and the real-life challenges to solving crime.
URL:https://www.jfk.org/event/csi-family-day-3/
LOCATION:The Sixth Floor Museum at Dealey Plaza\, 411 Elm St.\, Dallas\, TX\, 75202\, United States
END:VEVENT
BEGIN:VEVENT
DTSTART;TZID=America/Chicago:20110311T190000
DTEND;TZID=America/Chicago:20110311T200000
DTSTAMP:20221021T163011
CREATED:20150403T165759Z
LAST-MODIFIED:20150403T165759Z
UID:3353-1299870000-1299873600@www.jfk.org
SUMMARY:Meet the Museum – Living History with Allen Mondell
DESCRIPTION:Allen Mondell decided to join the Peace Corps immediately after President Kennedy announced the launch of the program in 1961. He was working as a member of the Peace Corps in Sierra Leone at the time of the assassination. Years later he teamed with his wife Cynthia to write\, produce and direct the documentary films seen in the permanent exhibition at The Sixth Floor Museum. \nWatch the video on YouTube.
URL:https://www.jfk.org/event/meet-the-museum-living-history-with-allen-mondell/
LOCATION:The Sixth Floor Museum at Dealey Plaza\, 411 Elm St.\, Dallas\, TX\, 75202\, United States
END:VEVENT
BEGIN:VEVENT
DTSTART;TZID=America/Chicago:20110305T190000
DTEND;TZID=America/Chicago:20110305T200000
DTSTAMP:20221021T163011
CREATED:20150403T165640Z
LAST-MODIFIED:20150403T165640Z
UID:3352-1299351600-1299355200@www.jfk.org
SUMMARY:50 Years of Service: Peace Corps Volunteers from 1961-2010
DESCRIPTION:President Kennedy launched the Peace Corps in March of 1961 to challenge young Americans to contribute two years of their lives in service to people in developing countries. Fifty years later\, The Peace Corps continues with the same mission\, but with new challenges. Five generations of Peace Corps Volunteers reflect on how the experience changed their lives and made a difference in the countries where they served. \nWatch the video on YouTube.
URL:https://www.jfk.org/event/50-years-of-service-peace-corps-volunteers-from-1961-2010/
LOCATION:The Sixth Floor Museum at Dealey Plaza\, 411 Elm St.\, Dallas\, TX\, 75202\, United States
END:VEVENT
BEGIN:VEVENT
DTSTART;TZID=America/Chicago:20110223T190000
DTEND;TZID=America/Chicago:20110223T200000
DTSTAMP:20221021T163011
CREATED:20150403T165502Z
LAST-MODIFIED:20150403T165502Z
UID:3351-1298487600-1298491200@www.jfk.org
SUMMARY:JFK and LBJ: The Evolution of Presidential Legacies
DESCRIPTION:To commemorate Presidents Day\, The Sixth Floor Museum at Dealey Plaza is collaborating with SMU’s Tower Center to reflect upon a transformative period in United States history. Moderated by Dennis M. Simon\, Professor of Political Science at Southern Methodist University\, panelists discuss how Presidents Kennedy and Johnson responded to landmark events of the era and will consider the ways their decisions continue to influence each president’s evolving legacy. Panelists were Alan C. Lowe\, director of the George W. Bush Presidential Library; Sidney M. Milkis\, Professor of Politics and assistant director\, Miller Center of Public Affairs at the University of Virginia; Mark K. Updegrove\, Director of the Lyndon B. Johnson Library & Museum. \nWatch the video on YouTube.
URL:https://www.jfk.org/event/jfk-and-lbj-the-evolution-of-presidential-legacies/
LOCATION:The Sixth Floor Museum at Dealey Plaza\, 411 Elm St.\, Dallas\, TX\, 75202\, United States
END:VEVENT
BEGIN:VEVENT
DTSTART;TZID=America/Chicago:20110211T190000
DTEND;TZID=America/Chicago:20110211T200000
DTSTAMP:20221021T163011
CREATED:20150403T165302Z
LAST-MODIFIED:20150403T165302Z
UID:3350-1297450800-1297454400@www.jfk.org
SUMMARY:Meet the Museum – Concrete\, Grass\, Bricks: A History of the Museum
DESCRIPTION:In this slide presentation\, Museum Associate Curator Stephen Fagin recounts the fascinating history of The Sixth Floor Museum\, which celebrated 22 years on Presidents Day\, Monday\, February 21\, 2011.
URL:https://www.jfk.org/event/meet-the-museum-concrete-grass-bricks-a-history-of-the-museum/
LOCATION:The Sixth Floor Museum at Dealey Plaza\, 411 Elm St.\, Dallas\, TX\, 75202\, United States
END:VEVENT
BEGIN:VEVENT
DTSTART;TZID=America/Chicago:20110104T190000
DTEND;TZID=America/Chicago:20110104T200000
DTSTAMP:20221021T163011
CREATED:20150403T165216Z
LAST-MODIFIED:20150403T165216Z
UID:3349-1294167600-1294171200@www.jfk.org
SUMMARY:Meet the Museum – Gallery Talk with the Curator
DESCRIPTION:Curator Gary Mack shares stories about Dallas nightclub owner Jack Ruby. Ruby’s life is featured in the Museum’s collections spotlight exhibition Jack Ruby: The Man in That Hat.
URL:https://www.jfk.org/event/meet-the-museum-gallery-talk-with-the-curator/
LOCATION:The Sixth Floor Museum at Dealey Plaza\, 411 Elm St.\, Dallas\, TX\, 75202\, United States
END:VEVENT
BEGIN:VEVENT
DTSTART;TZID=America/Chicago:20101210T190000
DTEND;TZID=America/Chicago:20101210T200000
DTSTAMP:20221021T163011
CREATED:20150403T165017Z
LAST-MODIFIED:20150403T165017Z
UID:3348-1292007600-1292011200@www.jfk.org
SUMMARY:Meet the Museum – Kennedy Scrapbooks: Insights from the Collections Manager
DESCRIPTION:People all over the world created scrapbooks to commemorate President Kennedy’s life and death. A few of those scrapbooks are now part of the Museum collections! Get a rare glimpse at some of our treasures and learn how you can protect your own keepsakes. Presented by Museum Collections Manager Lindsey Richardson.
URL:https://www.jfk.org/event/meet-the-museum-kennedy-scrapbooks-insights-from-the-collections-manager/
LOCATION:The Sixth Floor Museum at Dealey Plaza\, 411 Elm St.\, Dallas\, TX\, 75202\, United States
END:VEVENT
BEGIN:VEVENT
DTSTART;TZID=America/Chicago:20101120T190000
DTEND;TZID=America/Chicago:20101120T200000
DTSTAMP:20221021T163011
CREATED:20150403T164900Z
LAST-MODIFIED:20150403T164900Z
UID:3347-1290279600-1290283200@www.jfk.org
SUMMARY:The Kennedy Detail: JFK’s Secret Service Agents Break Their Silence
DESCRIPTION:In The Kennedy Detail\, Gerald Blaine – one of 34 Secret Service agents on President Kennedy’s Detail when he was assassinated – sets history straight on what happened that afternoon and in the months leading up to and following the tragedy. Written with Secret Service agent Clint Hill and award-winning journalist Lisa McCubbin\, this insider account includes contributions from many of the Secret Service agents who were serving on the Kennedy Detail and draws upon their daily reports\, expense accounts\, personal notes and vivid recollections. \nWatch the video on YouTube.
URL:https://www.jfk.org/event/the-kennedy-detail-jfks-secret-service-agents-break-their-silence/
LOCATION:The Sixth Floor Museum at Dealey Plaza\, 411 Elm St.\, Dallas\, TX\, 75202\, United States
END:VEVENT
BEGIN:VEVENT
DTSTART;TZID=America/Chicago:20101119T190000
DTEND;TZID=America/Chicago:20101119T200000
DTSTAMP:20221021T163011
CREATED:20150403T162108Z
LAST-MODIFIED:20150403T162108Z
UID:3346-1290193200-1290196800@www.jfk.org
SUMMARY:Meet the Museum – The Parkland Experience
DESCRIPTION:The Kennedy motorcade arrived at Parkland Memorial Hospital five minutes after the shooting in Dealey Plaza. Approximately 48 hours later\, accused assassin Lee Harvey Oswald died there after being gunned down in the basement of police headquarters. Find out more through physicians’ notes\, oral histories\, hospital records and other unique accounts.
URL:https://www.jfk.org/event/meet-the-museum-the-parkland-experience/
LOCATION:The Sixth Floor Museum at Dealey Plaza\, 411 Elm St.\, Dallas\, TX\, 75202\, United States
END:VEVENT
BEGIN:VEVENT
DTSTART;TZID=America/Chicago:20101016T190000
DTEND;TZID=America/Chicago:20101016T200000
DTSTAMP:20221021T163011
CREATED:20150403T162015Z
LAST-MODIFIED:20150403T162015Z
UID:3345-1287255600-1287259200@www.jfk.org
SUMMARY:Behind the Lens: The Making of A Photographer’s Story with Bob Jackson
DESCRIPTION:On the closing weekend of this exhibit\, discover how Bob Jackson’s amazing portfolio of photographs became a Museum exhibit. Listen as Jackson recounts the story behind the exhibit and his Pulitzer Prize-winning photograph with museum curator Gary Mack and associate curator Stephen Fagin.
URL:https://www.jfk.org/event/behind-the-lens-the-making-of-a-photographers-story-with-bob-jackson/
LOCATION:The Sixth Floor Museum at Dealey Plaza\, 411 Elm St.\, Dallas\, TX\, 75202\, United States
END:VEVENT
BEGIN:VEVENT
DTSTART;TZID=America/Chicago:20101008T190000
DTEND;TZID=America/Chicago:20101008T200000
DTSTAMP:20221021T163011
CREATED:20150403T161923Z
LAST-MODIFIED:20150403T161923Z
UID:3344-1286564400-1286568000@www.jfk.org
SUMMARY:Meet the Museum – Q&A with Curator Gary Mack
DESCRIPTION:Gary Mack has been researching the Kennedy assassination since 1975\, served as a consultant to the Museum since the planning stages in the early 1980s and joined the Museum staff in 1994.
URL:https://www.jfk.org/event/meet-the-museum-qa-with-curator-gary-mack/
LOCATION:The Sixth Floor Museum at Dealey Plaza\, 411 Elm St.\, Dallas\, TX\, 75202\, United States
END:VEVENT
BEGIN:VEVENT
DTSTART;TZID=America/Chicago:20100910T190000
DTEND;TZID=America/Chicago:20100910T200000
DTSTAMP:20221021T163011
CREATED:20150403T161628Z
LAST-MODIFIED:20150403T161628Z
UID:3343-1284145200-1284148800@www.jfk.org
SUMMARY:Meet the Museum – Living History with Bob Jackson
DESCRIPTION:On Friday\, November 22\, 1963\, newspaper photographer Bob Jackson was assigned to take pictures of President Kennedy’s visit to Dallas for the Dallas Times Herald. Learn how he covered one of the largest news events of the 20th century.
URL:https://www.jfk.org/event/meet-the-museum-living-history-with-bob-jackson/
LOCATION:The Sixth Floor Museum at Dealey Plaza\, 411 Elm St.\, Dallas\, TX\, 75202\, United States
END:VEVENT
BEGIN:VEVENT
DTSTART;TZID=America/Chicago:20100813T190000
DTEND;TZID=America/Chicago:20100813T200000
DTSTAMP:20221021T163011
CREATED:20150403T161451Z
LAST-MODIFIED:20150403T161451Z
UID:3342-1281726000-1281729600@www.jfk.org
SUMMARY:Meet the Museum – Student Voices: A Conversation with the Curator of Education
DESCRIPTION:What do young people really think about the assassination of President Kennedy in November 1963\, and how do they define his legacy? Listen to this enlightening conversation with Curator of Education Sharron Conrad that puts student voices on center stage!
URL:https://www.jfk.org/event/meet-the-museum-student-voices-a-conversation-with-the-curator-of-education/
LOCATION:The Sixth Floor Museum at Dealey Plaza\, 411 Elm St.\, Dallas\, TX\, 75202\, United States
END:VEVENT
BEGIN:VEVENT
DTSTART;TZID=America/Chicago:20100709T190000
DTEND;TZID=America/Chicago:20100709T200000
DTSTAMP:20221021T163011
CREATED:20150403T161330Z
LAST-MODIFIED:20150403T161330Z
UID:3341-1278702000-1278705600@www.jfk.org
SUMMARY:Meet the Museum – An Introduction to the Reading Room
DESCRIPTION:So\, just how does a researcher gain access to the books\, DVDs\, oral histories and other materials in the Museum’s new Reading Room? Find out during this orientation led by our librarian\, Pauline Martin.
URL:https://www.jfk.org/event/meet-the-museum-an-introduction-to-the-reading-room/
LOCATION:The Sixth Floor Museum at Dealey Plaza\, 411 Elm St.\, Dallas\, TX\, 75202\, United States
END:VEVENT
BEGIN:VEVENT
DTSTART;TZID=America/Chicago:20100615T190000
DTEND;TZID=America/Chicago:20100615T200000
DTSTAMP:20221021T163011
CREATED:20150403T161219Z
LAST-MODIFIED:20150403T161219Z
UID:3340-1276628400-1276632000@www.jfk.org
SUMMARY:The John F. Kennedy Memorial at 40: A Conversation with Frank Welch and Dale Sellers
DESCRIPTION:The Sixth Floor Museum at Dealey Plaza\, the American Institute of Architects Dallas and the Dallas Architecture Forum presented “The John F. Kennedy Memorial at 40: A Conversation with Frank Welch and Dale Sellers.” The program included a reception\, book signing and walk to the Memorial. \nWatch this video on YouTube.
URL:https://www.jfk.org/event/the-john-f-kennedy-memorial-at-40-a-conversation-with-frank-welch-and-dale-sellers/
LOCATION:The Sixth Floor Museum at Dealey Plaza\, 411 Elm St.\, Dallas\, TX\, 75202\, United States
END:VEVENT
BEGIN:VEVENT
DTSTART;TZID=America/Chicago:20100611T190000
DTEND;TZID=America/Chicago:20100611T200000
DTSTAMP:20221021T163011
CREATED:20150403T161042Z
LAST-MODIFIED:20150403T161042Z
UID:3339-1276282800-1276286400@www.jfk.org
SUMMARY:Meet the Museum – JFK and the Dallas Civil Rights Movement
DESCRIPTION:Photographs\, oral histories and documents from the 1960s illustrated the local Civil Rights Movement and its effect on Dallas. Discover how the death of President John F. Kennedy\, whose call for equality inspired millions\, made an impact on Dallas activists. This event marked the 47th anniversary of President Kennedy’s televised national address on civil rights.
URL:https://www.jfk.org/event/meet-the-museum-jfk-and-the-dallas-civil-rights-movement/
LOCATION:The Sixth Floor Museum at Dealey Plaza\, 411 Elm St.\, Dallas\, TX\, 75202\, United States
END:VEVENT
BEGIN:VEVENT
DTSTART;TZID=America/Chicago:20100514T190000
DTEND;TZID=America/Chicago:20100514T200000
DTSTAMP:20221021T163011
CREATED:20150403T160939Z
LAST-MODIFIED:20150403T160939Z
UID:3338-1273863600-1273867200@www.jfk.org
SUMMARY:Meet the Museum – History Detectives
DESCRIPTION:Use your detective skills to uncover the history and meaning behind items in the Museum’s collection of 1960s teaching artifacts – a fun assortment of books\, magazines\, cameras\, toys\, clothing\, newspapers\, music and more! The Museum’s curator of education\, Sharron Conrad\, led this hands-on adventure.
URL:https://www.jfk.org/event/meet-the-museum-history-detectives/
LOCATION:The Sixth Floor Museum at Dealey Plaza\, 411 Elm St.\, Dallas\, TX\, 75202\, United States
END:VEVENT
BEGIN:VEVENT
DTSTART;TZID=America/Chicago:20100409T190000
DTEND;TZID=America/Chicago:20100409T200000
DTSTAMP:20221021T163011
CREATED:20150403T160652Z
LAST-MODIFIED:20150403T165332Z
UID:3337-1270839600-1270843200@www.jfk.org
SUMMARY:Meet the Museum – Dallas Police vs. the World Press: November 1963
DESCRIPTION:Explore the difficult relationship that existed at Dallas police headquarters between law enforcement officials and more than 300 journalists during the weekend of President Kennedy’s assassination. This presentation was told through the firsthand recollections of key participants and was presented by the Museum’s Associate Curator Stephen Fagin.
URL:https://www.jfk.org/event/meet-the-museum-dallas-police-vs-the-world-press-november-1963/
LOCATION:The Sixth Floor Museum at Dealey Plaza\, 411 Elm St.\, Dallas\, TX\, 75202\, United States
END:VEVENT
BEGIN:VEVENT
DTSTART;TZID=America/Chicago:20100314T120000
DTEND;TZID=America/Chicago:20100314T170000
DTSTAMP:20221021T163011
CREATED:20150403T160435Z
LAST-MODIFIED:20150403T160435Z
UID:3336-1268568000-1268586000@www.jfk.org
SUMMARY:CSI Family Day
DESCRIPTION:For the 4th straight year\, CSI Family Day gives guests the chance to examine a mock crime scene\, perform forensic analysis at evidence stations and solve a hypothetical crime. It’s a fun and engaging way to learn about modern investigative techniques and the real-life challenges to solving crime.
URL:https://www.jfk.org/event/csi-family-day-2/
LOCATION:The Sixth Floor Museum at Dealey Plaza\, 411 Elm St.\, Dallas\, TX\, 75202\, United States
END:VEVENT
BEGIN:VEVENT
DTSTART;TZID=America/Chicago:20100312T190000
DTEND;TZID=America/Chicago:20100312T200000
DTSTAMP:20221021T163011
CREATED:20150403T160333Z
LAST-MODIFIED:20150403T160333Z
UID:3335-1268420400-1268424000@www.jfk.org
SUMMARY:Meet the Museum – Discover the Museum: CSI
DESCRIPTION:The Museum collection of approximately 35\,000 items includes artifacts and photographs related to the November 1963 crime scene investigation at the Texas School Book Depository. The Museum’s collections manager\, Lindsey Richardson\, revealed exactly what was in the kit that belonged to Lt. Carl Day of the Dallas Police Crime Scene Search Unit.
URL:https://www.jfk.org/event/meet-the-museum-discover-the-museum-csi/
LOCATION:The Sixth Floor Museum at Dealey Plaza\, 411 Elm St.\, Dallas\, TX\, 75202\, United States
END:VEVENT
BEGIN:VEVENT
DTSTART;TZID=America/Chicago:20100311T190000
DTEND;TZID=America/Chicago:20100311T200000
DTSTAMP:20221021T163011
CREATED:20150403T160219Z
LAST-MODIFIED:20150403T160219Z
UID:3334-1268334000-1268337600@www.jfk.org
SUMMARY:Letters to Jackie: Condolences from a Grieving Nation
DESCRIPTION:Within seven weeks of President John F. Kennedy’s death in 1963\, Jacqueline Kennedy received more than 800\,000 condolence letters. Two years later\, the volume would exceed 1.5 million letters. For the next 46 years\, the letters would remain essentially untouched. Now\, historian and News Hour with Jim Lehrer commentator Ellen Fitzpatrick has selected approximately 250 of these letters for inclusion in Letters to Jackie\, the first book ever to examine this extraordinary collection. \nWatch this video on YouTube.
URL:https://www.jfk.org/event/letters-to-jackie-condolences-from-a-grieving-nation/
LOCATION:The Sixth Floor Museum at Dealey Plaza\, 411 Elm St.\, Dallas\, TX\, 75202\, United States
END:VEVENT
BEGIN:VEVENT
DTSTART;TZID=America/Chicago:20100108T190000
DTEND;TZID=America/Chicago:20100108T200000
DTSTAMP:20221021T163011
CREATED:20150403T160045Z
LAST-MODIFIED:20150403T160045Z
UID:3333-1262977200-1262980800@www.jfk.org
SUMMARY:Meet the Museum – Voices: An Oral History of November 22\, 1963
DESCRIPTION:Journey back to the day of President Kennedy’s assassination and experience the emotion of this historic event through still photography and firsthand accounts. More than 60 photographs from the Museum collections provide the backdrop to a dramatic voice over by the Museum’s Associate Curator\, Stephen Fagin\, selected from over 35 oral history interviews.
URL:https://www.jfk.org/event/meet-the-museum-voices-an-oral-history-of-november-22-1963/
LOCATION:The Sixth Floor Museum at Dealey Plaza\, 411 Elm St.\, Dallas\, TX\, 75202\, United States
END:VEVENT
BEGIN:VEVENT
DTSTART;TZID=America/Chicago:20091117T190000
DTEND;TZID=America/Chicago:20091117T200000
DTSTAMP:20221021T163011
CREATED:20150403T155925Z
LAST-MODIFIED:20150403T155925Z
UID:3332-1258484400-1258488000@www.jfk.org
SUMMARY:The Lost JFK Tapes: The Assassination
DESCRIPTION:To mark the premiere of the National Geographic Channel special\, The Lost JFK Tapes and commemorate the anniversary\, this panel discussion featuring Tom Jennings\, Ron Frank\, Liza Douglass\, and Michael Cascio followed a screening of the documentary on the seventh floor. Gary Mack spoke with the filmmaking team and a National Geographic executive about the making of the program\, which includes a great deal of Museum film and video content.
URL:https://www.jfk.org/event/the-lost-jfk-tapes-the-assassination/
LOCATION:The Sixth Floor Museum at Dealey Plaza\, 411 Elm St.\, Dallas\, TX\, 75202\, United States
END:VEVENT
BEGIN:VEVENT
DTSTART;TZID=America/Chicago:20091008T190000
DTEND;TZID=America/Chicago:20091008T200000
DTSTAMP:20221021T163011
CREATED:20150403T155747Z
LAST-MODIFIED:20150403T155747Z
UID:3331-1255028400-1255032000@www.jfk.org
SUMMARY:Beyond the Victim Monument
DESCRIPTION:In a collaboration with Southern Methodist University and the Dallas Holocaust Museum author Kirk Savage discussed his new book\, Monument Wars: Washington\, D.C.\, the National Mall\, and the Transformation of the Memorial Landscape. A book signing followed the program.
URL:https://www.jfk.org/event/beyond-the-victim-monument/
LOCATION:The Sixth Floor Museum at Dealey Plaza\, 411 Elm St.\, Dallas\, TX\, 75202\, United States
END:VEVENT
BEGIN:VEVENT
DTSTART;TZID=America/Chicago:20081120T190000
DTEND;TZID=America/Chicago:20081120T200000
DTSTAMP:20221021T163011
CREATED:20150403T153644Z
LAST-MODIFIED:20150403T153657Z
UID:3323-1227207600-1227211200@www.jfk.org
SUMMARY:When The News Went Live: Dallas 1963
DESCRIPTION:Journalists Bob Huffaker\, Bill Mercer\, George Phenix and Wes Wise recount their coverage of President John F. Kennedy’s assassination and its aftermath\, discuss how this tragedy brought live television to the forefront of news and how broadcast news has changed since 1963. A book signing event follows their presentation. \nWatch this video on YouTube.
URL:https://www.jfk.org/event/when-the-news-went-live-dallas-1963-2/
LOCATION:The Sixth Floor Museum at Dealey Plaza\, 411 Elm St.\, Dallas\, TX\, 75202\, United States
END:VEVENT
BEGIN:VEVENT
DTSTART;TZID=America/Chicago:20080502T190000
DTEND;TZID=America/Chicago:20080502T200000
DTSTAMP:20221021T163011
CREATED:20150403T154346Z
LAST-MODIFIED:20150403T154346Z
UID:3326-1209754800-1209758400@www.jfk.org
SUMMARY:Eyewitness to History: Jackie Tindel
DESCRIPTION:As an adjustor for Travelers Insurance Company\, Mr. Tindel often had to obtain accident reports from Dallas Police headquarters at Main and Harwood. On November 22\, 1963\, he stood at that intersection and filmed the presidential motorcade as it turned onto Main Street. \nWatch this video on YouTube.
URL:https://www.jfk.org/event/eyewitness-to-history-jackie-tindel/
LOCATION:The Sixth Floor Museum at Dealey Plaza\, 411 Elm St.\, Dallas\, TX\, 75202\, United States
END:VEVENT
BEGIN:VEVENT
DTSTART;TZID=America/Chicago:20080219T190000
DTEND;TZID=America/Chicago:20080219T200000
DTSTAMP:20221021T163011
CREATED:20150403T153805Z
LAST-MODIFIED:20150403T153805Z
UID:3324-1203447600-1203451200@www.jfk.org
SUMMARY:“Shooting Kennedy: JFK and the Culture of Images” with Dr. David M. Lubin
DESCRIPTION:Lecture and book signing with Dr. David M. Lubin\, author and Charlotte C. Weber Professor of Art at Wake Forest University. Dr. Lubin has authored several books on diverse subjects\, including a critical analysis of the film “Titanic.”  His 2003 book\, “Shooting Kennedy: JFK and the Culture of Images\,” examines the cultural impact of iconic images of John and Jackie Kennedy\, 1953 to 1963.  The Abraham Zapruder film is covered in-depth.
URL:https://www.jfk.org/event/shooting-kennedy-jfk-and-the-culture-of-images-with-dr-david-m-lubin/
LOCATION:The Sixth Floor Museum at Dealey Plaza\, 411 Elm St.\, Dallas\, TX\, 75202\, United States
END:VEVENT
END:VCALENDAR