BEGIN:VCALENDAR
VERSION:2.0
PRODID:-//The Sixth Floor Museum at Dealey Plaza - ECPv6.0.2//NONSGML v1.0//EN
CALSCALE:GREGORIAN
METHOD:PUBLISH
X-WR-CALNAME:The Sixth Floor Museum at Dealey Plaza
X-ORIGINAL-URL:https://www.jfk.org
X-WR-CALDESC:Events for The Sixth Floor Museum at Dealey Plaza
REFRESH-INTERVAL;VALUE=DURATION:PT1H
X-Robots-Tag:noindex
X-PUBLISHED-TTL:PT1H
BEGIN:VTIMEZONE
TZID:America/Chicago
BEGIN:DAYLIGHT
TZOFFSETFROM:-0600
TZOFFSETTO:-0500
TZNAME:CDT
DTSTART:20040404T080000
END:DAYLIGHT
BEGIN:STANDARD
TZOFFSETFROM:-0500
TZOFFSETTO:-0600
TZNAME:CST
DTSTART:20041031T070000
END:STANDARD
BEGIN:DAYLIGHT
TZOFFSETFROM:-0600
TZOFFSETTO:-0500
TZNAME:CDT
DTSTART:20050403T080000
END:DAYLIGHT
BEGIN:STANDARD
TZOFFSETFROM:-0500
TZOFFSETTO:-0600
TZNAME:CST
DTSTART:20051030T070000
END:STANDARD
BEGIN:DAYLIGHT
TZOFFSETFROM:-0600
TZOFFSETTO:-0500
TZNAME:CDT
DTSTART:20060402T080000
END:DAYLIGHT
BEGIN:STANDARD
TZOFFSETFROM:-0500
TZOFFSETTO:-0600
TZNAME:CST
DTSTART:20061029T070000
END:STANDARD
END:VTIMEZONE
BEGIN:VEVENT
DTSTART;TZID=America/Chicago:20061025T190000
DTEND;TZID=America/Chicago:20061025T200000
DTSTAMP:20221021T163829
CREATED:20150403T152044Z
LAST-MODIFIED:20150403T152044Z
UID:3312-1161802800-1161806400@www.jfk.org
SUMMARY:Call to Action: The Disability Rights Movement
DESCRIPTION:Dr. Richard Scotch of the University of Texas at Dallas leads a dialogue with recognized disability advocates Kent Waldrep\, Bob Kafka and Ralph Rouse on the decades-long fight leading to the Americans with Disabilities Act. \nWatch the video on YouTube.
URL:https://www.jfk.org/event/call-to-action-the-disability-rights-movement/
LOCATION:The Sixth Floor Museum at Dealey Plaza\, 411 Elm St.\, Dallas\, TX\, 75202\, United States
END:VEVENT
BEGIN:VEVENT
DTSTART;TZID=America/Chicago:20060927T190000
DTEND;TZID=America/Chicago:20060927T200000
DTSTAMP:20221021T163829
CREATED:20150403T150439Z
LAST-MODIFIED:20150403T150439Z
UID:3311-1159383600-1159387200@www.jfk.org
SUMMARY:Call to Action: La Calle to City Hall
DESCRIPTION:Mercedes Olivera of The Dallas Morning News moderates a panel discussion about the Mexican-American rights movement\, featuring Adelfa Callejo\, Frank Hernandez and Dr. Roberto Calderon of the University of North Texas. \nWatch this video on YouTube.
URL:https://www.jfk.org/event/call-to-action-la-calle-to-city-hall/
LOCATION:The Sixth Floor Museum at Dealey Plaza\, 411 Elm St.\, Dallas\, TX\, 75202\, United States
END:VEVENT
BEGIN:VEVENT
DTSTART;TZID=America/Chicago:20060906T190000
DTEND;TZID=America/Chicago:20060906T200000
DTSTAMP:20221021T163829
CREATED:20150403T150205Z
LAST-MODIFIED:20150403T150306Z
UID:3310-1157569200-1157572800@www.jfk.org
SUMMARY:Call to Action: The SNCC Experience in Dallas
DESCRIPTION:Bob Ray Sanders of the Fort Worth Star-Telegram interviews 1960s civil rights activists Bishop Mark Herbener\, Ernest McMillan and Edward Harris about the Student Nonviolent Coordinating Committee (SNCC). \nWatch this video on YouTube.
URL:https://www.jfk.org/event/call-to-action-the-sncc-experience-in-dallas/
LOCATION:The Sixth Floor Museum at Dealey Plaza\, 411 Elm St.\, Dallas\, TX\, 75202\, United States
END:VEVENT
BEGIN:VEVENT
DTSTART;TZID=America/Chicago:20060802T190000
DTEND;TZID=America/Chicago:20060802T200000
DTSTAMP:20221021T163829
CREATED:20150403T145549Z
LAST-MODIFIED:20150403T145549Z
UID:3309-1154545200-1154548800@www.jfk.org
SUMMARY:Call to Action: A Conversation with Vivian Castleberry
DESCRIPTION:Vivian Castleberry\, longtime women’s editor at the Dallas Times Herald\, has been called the “grandmother of women journalists in Dallas.” She was instrumental in taking local women’s issues to a new level by publishing genuine news stories instead of just debutante notices. She discusses the history and sociology of local women’s rights movement: who was involved\, what were their goals\, what was accomplished and what challenges and opportunities remain. \nWatch this video on YouTube.
URL:https://www.jfk.org/event/call-to-action-a-conversation-with-vivian-castleberry/
LOCATION:The Sixth Floor Museum at Dealey Plaza\, 411 Elm St.\, Dallas\, TX\, 75202\, United States
END:VEVENT
BEGIN:VEVENT
DTSTART;TZID=America/Chicago:20060716T190000
DTEND;TZID=America/Chicago:20060716T200000
DTSTAMP:20221021T163829
CREATED:20150402T211816Z
LAST-MODIFIED:20150403T150249Z
UID:3302-1153076400-1153080000@www.jfk.org
SUMMARY:Call to Action: The Gay Rights Movement in Dallas
DESCRIPTION:Long-time gay rights activist Louise Young leads a panel discussion with representatives of Dallas’ large and diverse gay community. Panelists include Ron Jefferson and Monica Greene. \nWatch this video on YouTube.
URL:https://www.jfk.org/event/call-to-action-the-gay-rights-movement-in-dallas/
LOCATION:The Sixth Floor Museum at Dealey Plaza\, 411 Elm St.\, Dallas\, TX\, 75202\, United States
END:VEVENT
BEGIN:VEVENT
DTSTART;TZID=America/Chicago:20060614T190000
DTEND;TZID=America/Chicago:20060614T200000
DTSTAMP:20221021T163829
CREATED:20150402T211522Z
LAST-MODIFIED:20150402T211603Z
UID:3301-1150311600-1150315200@www.jfk.org
SUMMARY:Call to Action: Crisis with Robert Drew
DESCRIPTION:A screening of Crisis was held\, followed by a Q&A with Robert Drew. Crisis (Robert Drew\, 1963\, 52 minutes) chronicles the struggle between President John F. Kennedy and George Wallace during the segregation of the University of Alabama. Drew recorded an oral history with the Museum in 2004 and appeared in Dallas for a screening of his 1960 film Primary with the Dallas Video Festival.
URL:https://www.jfk.org/event/call-to-action-crisis-with-robert-drew/
LOCATION:The Sixth Floor Museum at Dealey Plaza\, 411 Elm St.\, Dallas\, TX\, 75202\, United States
END:VEVENT
BEGIN:VEVENT
DTSTART;TZID=America/Chicago:20060524T190000
DTEND;TZID=America/Chicago:20060524T200000
DTSTAMP:20221021T163829
CREATED:20150402T211331Z
LAST-MODIFIED:20150402T211331Z
UID:3300-1148497200-1148500800@www.jfk.org
SUMMARY:Call to Action: Dallas at the Crossroads
DESCRIPTION:A screening of Dallas at the Crossroads will be held\, followed by a Q&A with Southern Methodist University professor Dr. Glenn Linden. This 1961 film was produced to prepare Dallas for peaceful school integration. Screened in cooperation with the Dallas Public Library.
URL:https://www.jfk.org/event/call-to-action-dallas-at-the-crossroads/
LOCATION:The Sixth Floor Museum at Dealey Plaza\, 411 Elm St.\, Dallas\, TX\, 75202\, United States
END:VEVENT
BEGIN:VEVENT
DTSTART;TZID=America/Chicago:20060420T190000
DTEND;TZID=America/Chicago:20060420T200000
DTSTAMP:20221021T163829
CREATED:20150402T211231Z
LAST-MODIFIED:20150402T211231Z
UID:3299-1145559600-1145563200@www.jfk.org
SUMMARY:Call to Action: Opening Program
DESCRIPTION:Respected former journalist\, author and noted historian Dr. Darwin Payne leads a presentation on the history of civil rights in Dallas.
URL:https://www.jfk.org/event/call-to-action-opening-program/
LOCATION:The Sixth Floor Museum at Dealey Plaza\, 411 Elm St.\, Dallas\, TX\, 75202\, United States
END:VEVENT
BEGIN:VEVENT
DTSTART;TZID=America/Chicago:20051121T190000
DTEND;TZID=America/Chicago:20051121T200000
DTSTAMP:20221021T163829
CREATED:20150402T211108Z
LAST-MODIFIED:20150402T211415Z
UID:3298-1132599600-1132603200@www.jfk.org
SUMMARY:Exhibit Opening - Parkland Hospital: Voices from History\, with Special Guest Dr. Ronald C. Jones
DESCRIPTION:Dr. Ronald C. Jones was chief surgery resident at Parkland Memorial Hospital on November 22\, 1963. He was having lunch when he received word that the president had been shot and was en route to the hospital. He and Dr. Malcolm Perry immediately ran to the emergency room\, where they joined other physicians in the effort to resuscitate the president. Jones’ continued involvement in the assassination includes a 1964 interview by the FBI and the Warren Commission\, appearances in numerous books and documentaries about the death of President Kennedy and an interview by the Assassination Records Review Board in 1998. Since 1987\, Jones has served as chief of surgery at Baylor University Medical Center in Dallas.
URL:https://www.jfk.org/event/exhibit-opening-parkland-hospital-voices-from-history-with-special-guest-dr-ronald-c-jones/
LOCATION:The Sixth Floor Museum at Dealey Plaza\, 411 Elm St.\, Dallas\, TX\, 75202\, United States
END:VEVENT
BEGIN:VEVENT
DTSTART;TZID=America/Chicago:20041018T190000
DTEND;TZID=America/Chicago:20041018T200000
DTSTAMP:20221021T163829
CREATED:20150402T210746Z
LAST-MODIFIED:20150402T211011Z
UID:3296-1098126000-1098129600@www.jfk.org
SUMMARY:When The News Went Live: Dallas 1963
DESCRIPTION:In “When The News Went Live: Dallas 1963\,” journalists Bob Huffaker\, Bill Mercer\, George Phenix and Wes Wise recount their coverage of President John F. Kennedy’s assassination and its aftermath\, discuss how this tragedy brought live television to the forefront of news and how broadcast news has changed since 1963. A book signing event follows their presentation.
URL:https://www.jfk.org/event/when-the-news-went-live-dallas-1963/
LOCATION:The Sixth Floor Museum at Dealey Plaza\, 411 Elm St.\, Dallas\, TX\, 75202\, United States
END:VEVENT
BEGIN:VEVENT
DTSTART;TZID=America/Chicago:20040314T140000
DTEND;TZID=America/Chicago:20040314T150000
DTSTAMP:20221021T163829
CREATED:20150402T210441Z
LAST-MODIFIED:20150402T210630Z
UID:3295-1079272800-1079276400@www.jfk.org
SUMMARY:The Jack Ruby Trial: 40 Years Later
DESCRIPTION:This program examines one of the most fascinating trials in American history. Former ABC reporter and anchor Murphy Martin covered the events following President Kennedy’s assassination and Jack Ruby’s trial and was able to persuade Judge Joe B. Brown to allow a single camera in the courtroom when the verdict was read. (This may have been the first time a verdict had ever been broadcast live in the United States.) Martin is also the author of the new book\, “Front Row Seat: A Veteran Reporter Relives the Four Decades That Reshaped America.” \nThe Jack Ruby Trial: 40 Years Later includes video clips from The Sixth Floor Museum’s collection. Some of the clips included are Ruby shooting Oswald\, scenes from the courthouse during Ruby’s trial\, and the reading of the verdict.  The program will conclude with clips about the reversal of the verdict\, the changes in the Ruby defense team\, and Jack Ruby’s death. This is a rare opportunity to see and discuss history with the people who were there. \nParticipating as panelists are Hugh Aynesworth\, George Bramblett\, Jr.\, Judge Joe B. Brown\, Jr.\, Helen Holmes and J. Waymon Rose.
URL:https://www.jfk.org/event/the-jack-ruby-trial-40-years-later/
LOCATION:The Sixth Floor Museum at Dealey Plaza\, 411 Elm St.\, Dallas\, TX\, 75202\, United States
END:VEVENT
END:VCALENDAR