BEGIN:VCALENDAR
VERSION:2.0
PRODID:-//The Sixth Floor Museum at Dealey Plaza - ECPv6.0.2//NONSGML v1.0//EN
CALSCALE:GREGORIAN
METHOD:PUBLISH
X-ORIGINAL-URL:https://www.jfk.org
X-WR-CALDESC:Events for The Sixth Floor Museum at Dealey Plaza
REFRESH-INTERVAL;VALUE=DURATION:PT1H
X-Robots-Tag:noindex
X-PUBLISHED-TTL:PT1H
BEGIN:VTIMEZONE
TZID:America/Chicago
BEGIN:DAYLIGHT
TZOFFSETFROM:-0600
TZOFFSETTO:-0500
TZNAME:CDT
DTSTART:20150308T080000
END:DAYLIGHT
BEGIN:STANDARD
TZOFFSETFROM:-0500
TZOFFSETTO:-0600
TZNAME:CST
DTSTART:20151101T070000
END:STANDARD
BEGIN:DAYLIGHT
TZOFFSETFROM:-0600
TZOFFSETTO:-0500
TZNAME:CDT
DTSTART:20160313T080000
END:DAYLIGHT
BEGIN:STANDARD
TZOFFSETFROM:-0500
TZOFFSETTO:-0600
TZNAME:CST
DTSTART:20161106T070000
END:STANDARD
END:VTIMEZONE
BEGIN:VEVENT
DTSTART;TZID=America/Chicago:20160624T120000
DTEND;TZID=America/Chicago:20160624T123000
DTSTAMP:20221021T160949
CREATED:20160517T182930Z
LAST-MODIFIED:20171028T133156Z
UID:7872-1466769600-1466771400@www.jfk.org
SUMMARY:Gallery Talk - Highlights from A Time For Greatness
DESCRIPTION:Photographs and artifacts tell unique and sometimes surprising stories. This new temporary exhibit highlighted the Museum’s favorite—and most interesting—objects and images from the 1960 campaign\, including materials from Senator Kennedy’s visit to the Dallas-Fort Worth area in September 1960.
URL:https://www.jfk.org/event/gallery-talk-highlights-time-greatness-2/
LOCATION:The Sixth Floor Museum at Dealey Plaza\, 411 Elm St.\, Dallas\, TX\, 75202\, United States
END:VEVENT
BEGIN:VEVENT
DTSTART;TZID=America/Chicago:20160616T123000
DTEND;TZID=America/Chicago:20160616T163000
DTSTAMP:20221021T160949
CREATED:20160517T181550Z
LAST-MODIFIED:20171028T151508Z
UID:7869-1466080200-1466094600@www.jfk.org
SUMMARY:Teacher Workshop - A Time For Greatness: The 1960 Presidential Campaign
DESCRIPTION:In this workshop\, educators toured the A Time for Greatness exhibit\, sampled the TEKS- aligned education programs and lesson plans designed to accompany the exhibit\, and interacted with curatorial staff. Showcasing campaign memorabilia\, photographs and film from The Sixth Floor Museum’s collection\, this colorful look at the 1960 Kennedy campaign offered a timely exploration of presidential politics from a different era\, connecting one historic election year to another.
URL:https://www.jfk.org/event/teacher-workshop-time-greatness-1960-presidential-campaign/
LOCATION:The Sixth Floor Museum at Dealey Plaza\, 411 Elm St.\, Dallas\, TX\, 75202\, United States
END:VEVENT
BEGIN:VEVENT
DTSTART;TZID=America/Chicago:20160610T120000
DTEND;TZID=America/Chicago:20160610T123000
DTSTAMP:20221021T160949
CREATED:20160517T182658Z
LAST-MODIFIED:20171028T133117Z
UID:7871-1465560000-1465561800@www.jfk.org
SUMMARY:Gallery Talk - Highlights from A Time for Greatness
DESCRIPTION:Photographs and artifacts tell unique and sometimes surprising stories. This new temporary exhibit highlighted the Museum’s favorite—and most interesting—objects and images from the 1960 campaign\, including materials from Senator Kennedy’s visit to the Dallas-Fort Worth area in September 1960.
URL:https://www.jfk.org/event/gallery-talk-highlights-time-greatness/
LOCATION:The Sixth Floor Museum at Dealey Plaza\, 411 Elm St.\, Dallas\, TX\, 75202\, United States
END:VEVENT
BEGIN:VEVENT
DTSTART;TZID=America/Chicago:20160523T180000
DTEND;TZID=America/Chicago:20160523T200000
DTSTAMP:20221021T160949
CREATED:20160405T143151Z
LAST-MODIFIED:20171221T172728Z
UID:7263-1464026400-1464033600@www.jfk.org
SUMMARY:1960: LBJ vs JFK vs Nixon with David Pietrusza
DESCRIPTION:In 1960: LBJ vs. JFK vs. Nixon\, award-winning presidential historian David Pietrusza crafted a revealing\, electrifying portrait of the first modern-day presidential campaign\, the epic battle between Sen. John F. Kennedy and Vice President Richard Nixon. It was the first campaign to utilize the power of television\, the first in which all fifty states would participate and the selection of the first president born in the 20th century. Pietrusza joined Curator Stephen Fagin to discuss the 1960 election\, the larger-than-life personalities at its center and the ways in which that important race helped shaped cross-country campaigning right up to the 2016 race for the White House. This special program kicked off The Sixth Floor Museum’s new exhibit\, A Time for Greatness. View this program on YouTube.
URL:https://www.jfk.org/event/1960-lbj-vs-jfk-vs-nixon-david-pietrusza/
LOCATION:The Sixth Floor Museum at Dealey Plaza\, 411 Elm St.\, Dallas\, TX\, 75202\, United States
END:VEVENT
BEGIN:VEVENT
DTSTART;TZID=America/Chicago:20160518T180000
DTEND;TZID=America/Chicago:20160518T200000
DTSTAMP:20221021T160949
CREATED:20160405T143011Z
LAST-MODIFIED:20171221T172649Z
UID:7262-1463594400-1463601600@www.jfk.org
SUMMARY:50 Great American Places with Brent Glass
DESCRIPTION:Historian and Director Emeritus of the Smithsonian’s National Museum of American History Brent D. Glass discussed his new book. A guide to the most important cultural and historic sites in the U.S. From Mesa Verde to the Mall of America tells the collective story of America. Presented in partnership with Frontiers of Flight Museum and the Dallas Holocaust Museum Center for Education and Tolerance. View this program on YouTube. \n  \n\n 
URL:https://www.jfk.org/event/50-great-american-places-brent-glass/
LOCATION:The Sixth Floor Museum at Dealey Plaza\, 411 Elm St.\, Dallas\, TX\, 75202\, United States
END:VEVENT
BEGIN:VEVENT
DTSTART;TZID=America/Chicago:20160509T173000
DTEND;TZID=America/Chicago:20160509T210000
DTSTAMP:20221021T160949
CREATED:20160218T194726Z
LAST-MODIFIED:20171221T172100Z
UID:6765-1462815000-1462827600@www.jfk.org
SUMMARY:Five Presidents with Clint Hill and Lisa McCubbin
DESCRIPTION:Former Secret Service agent Clint Hill\, who was in President Kennedy’s motorcade in Dallas\, discussed his new book\, Five Presidents: My Extraordinary Journey with Eisenhower\, Kennedy\, Johnson\, Nixon and Ford with co-author Lisa McCubbin. View this program on YouTube.
URL:https://www.jfk.org/event/five-presidents-with-clint-hill-and-lisa-mccubbin/
LOCATION:The Sixth Floor Museum at Dealey Plaza\, 411 Elm St.\, Dallas\, TX\, 75202\, United States
END:VEVENT
BEGIN:VEVENT
DTSTART;TZID=America/Chicago:20160403T120000
DTEND;TZID=America/Chicago:20160403T170000
DTSTAMP:20221021T160949
CREATED:20160105T195253Z
LAST-MODIFIED:20171028T153844Z
UID:6269-1459684800-1459702800@www.jfk.org
SUMMARY:10th Annual CSI Family Day
DESCRIPTION:Become a Crime Scene Investigator and solve a crime by identifying forged documents\, reading eyewitness accounts or analyzing fingerprints! The Sixth Floor Museum partnered with University of North Texas Forensic Science Program\, one of only 14 undergraduate programs in the country that is accredited by the American Academy of Forensic Sciences\, to present CSI Family Day 2016.
URL:https://www.jfk.org/event/csi-family-day-2016/
LOCATION:The Sixth Floor Museum at Dealey Plaza\, 411 Elm St.\, Dallas\, TX\, 75202\, United States
END:VEVENT
BEGIN:VEVENT
DTSTART;TZID=America/Chicago:20160324T183000
DTEND;TZID=America/Chicago:20160324T200000
DTSTAMP:20221021T160949
CREATED:20151111T200647Z
LAST-MODIFIED:20171221T171811Z
UID:5747-1458844200-1458849600@www.jfk.org
SUMMARY:Fort Worth Opera Symposium in partnership with The Sixth Floor Museum: The Arts
DESCRIPTION:Jack and Jackie Kennedy were avid supporters of the visual and performing arts\, and under his presidency developed positions that empowered the arts and gave a voice to architecture. They hosted White House parties in honor of famous artists\, and JFK supported the creation of the GSA Art in Architecture Program to oversee the commission of artwork for the new Federal building\, and created the position of Special Consultant on the Arts. This discussion focused on how Fort Worth welcomed President Kennedy with art in 1963 and the impact of governmental support on creation of art and architecture today. Panelists included Darren Woods\, General Director Fort Worth Opera; David T. Little\, Composer of JFK; and Andrew Walker\, Amon Carter Director. View this program on YouTube. \n 
URL:https://www.jfk.org/event/fort-worth-opera-symposium-the-arts/
LOCATION:Piano Pavilion\, Kimbell Art Museum\, 3333 Camp Bowie Blvd\, Fort Worth\, TX\, 76107\, United States
END:VEVENT
BEGIN:VEVENT
DTSTART;TZID=America/Chicago:20160321T180000
DTEND;TZID=America/Chicago:20160321T193000
DTSTAMP:20221021T160949
CREATED:20160224T201017Z
LAST-MODIFIED:20171221T172141Z
UID:6810-1458583200-1458588600@www.jfk.org
SUMMARY:JFK-LBJ: Transition of Power
DESCRIPTION:The Sixth Floor Museum at Dealey Plaza and The Dallas Theater Center partnered to present programming for the Dallas premiere of the play\, All the Way\, winner of a 2014 Tony Award®.  This panel discussion compared Presidents Kennedy and Johnson and showcased firsthand accounts from November 22\, 1963 from the perspective of politics\, presidential security and photojournalism. Panelists were Julian Read\, a longtime public relations and political consultant who was press advisor to Gov. John Connally in 1963 and traveled with the official party in Fort Worth and Dallas; U.S. Secret Service agent Walt Coughlin who served on the White House Detail for Presidents Kennedy and Johnson; and Eamon Kennedy\, who was a Dallas Times Herald photojournalist covering Dallas Love Field\, Parkland Memorial Hospital\, the Texas Theatre and Dallas police headquarters in November 1963. View this program on YouTube.
URL:https://www.jfk.org/event/jfk-lbj-transition-of-power/
LOCATION:The Sixth Floor Museum at Dealey Plaza\, 411 Elm St.\, Dallas\, TX\, 75202\, United States
END:VEVENT
BEGIN:VEVENT
DTSTART;TZID=America/Chicago:20160218T183000
DTEND;TZID=America/Chicago:20160218T200000
DTSTAMP:20221021T160949
CREATED:20151111T200311Z
LAST-MODIFIED:20171221T171703Z
UID:5746-1455820200-1455825600@www.jfk.org
SUMMARY:Fort Worth Opera Symposium in partnership with The Sixth Floor Museum: Covering Tragedy: Journalism In A Changing World
DESCRIPTION:The Fort Worth Opera Festival presented the world premiere of the opera JFK in April 2016.  A special symposia\, presented in partnership with The Sixth Floor Museum\, explored different topics related to President Kennedy’s administration. Covering Tragedy: Journalism in a Changing World was presented in partnership with North Texas public broadcast KERA and explored the evolution of media coverage of tragedy over the past 50 years\, from a time when daily newspapers were dominant to today’s 24/7 breaking news cycle. Led by Krys Boyd\, Host of KERA’s THINK\, the panel included John McCaa\, Anchor\, WFAA-TV; Wade Goodwyn\, National Desk Correspondent – NPR; and Seema Yasmin\, Staff Writer – The Dallas Morning News and Professor in Practice – UT Dallas. View this program on YouTube.
URL:https://www.jfk.org/event/fort-worth-opera-symposium-journalism/
LOCATION:The Sixth Floor Museum at Dealey Plaza\, 411 Elm St.\, Dallas\, TX\, 75202\, United States
END:VEVENT
BEGIN:VEVENT
DTSTART;TZID=America/Chicago:20160202T180000
DTEND;TZID=America/Chicago:20160202T190000
DTSTAMP:20221021T160949
CREATED:20151130T162012Z
LAST-MODIFIED:20171028T140614Z
UID:5942-1454436000-1454439600@www.jfk.org
SUMMARY:Sign of the Times: Opening Reception and Lecture with Curator Hal Wert
DESCRIPTION:Dr. Hal Wert\, curator of the temporary exhibit\, Sign of the Times: The Great American Political Poster 1844-2012\, explored the stories behind the posters and the intriguing political messages that have changed throughout the years. The project was supported in part by an award from Mid-America Arts Alliance\, The National Endowment for the Arts\, Texas Commission on the Arts\, and foundations\, corporations and individuals in Arkansas\, Kansas\, Missouri\, Nebraska\, Oklahoma and Texas. The posters featured in the exhibit were from Dr. Wert’s personal collection. \nView this program on YouTube.  \n  \n 
URL:https://www.jfk.org/event/exhibit-opening-lecture-sign-of-the-times-the-great-american-political-poster-1844-2012-with-dr-hal-wert/
LOCATION:The Sixth Floor Museum at Dealey Plaza\, 411 Elm St.\, Dallas\, TX\, 75202\, United States
END:VEVENT
BEGIN:VEVENT
DTSTART;TZID=America/Chicago:20160121T183000
DTEND;TZID=America/Chicago:20160121T200000
DTSTAMP:20221021T160949
CREATED:20151111T200139Z
LAST-MODIFIED:20171028T140035Z
UID:5744-1453401000-1453406400@www.jfk.org
SUMMARY:Fort Worth Opera Symposium in partnership with The Sixth Floor Museum: Cuba and Immigration
DESCRIPTION:With the recent restoration of ties between Cuba and America and the steps being taken toward removing the five-decade embargo against the Latin country\, Fort Worth Opera hosted a conversation evaluating JFK’s decision to enforce the blockade\, its economic impact during the past 50 years\, why both President Bush and President Obama made strides to repair the relationship with Cuba\, and how the topic continues to affect our particular community. Panelists included John Hernandez\, President of the Fort Worth Hispanic Chamber of Commerce; Jim Riddlesperger\, TCU Presidential Scholar\, Emcee; Carlos Fonts\, Native Cuban and Bay of Pigs Veteran; Dr. David LaFevor\, UTA Assistant Professor of Latin American History and Digital Humanities; and Juan Hernandez\, former advisor to Mexican President Vicente Fox. \nView this program on YouTube.
URL:https://www.jfk.org/event/fort-worth-opera-symposium-cuba-and-immigration/
LOCATION:TCC Trinity River Campus\, Energy Auditorium\, 300 Trinity Campus Cir.\, Fort Worth\, TX\, 76102\, United States
END:VEVENT
BEGIN:VEVENT
DTSTART;TZID=America/Chicago:20160117T180000
DTEND;TZID=America/Chicago:20160117T180000
DTSTAMP:20221021T160949
CREATED:20151102T172639Z
LAST-MODIFIED:20171028T140801Z
UID:5599-1453053600-1453053600@www.jfk.org
SUMMARY:Portraits: History Lived - Exhibit closed
DESCRIPTION:A collaboration between The Dallas Morning News\, The Sixth Floor Museum at Dealey Plaza and several eyewitnesses to history Dallas 1963\, Portraits: History Lived was a series of current photographs of people who witnessed some part of the Kennedys’ 1963 visit to Dallas\, the assassination of the president or its aftermath. In commemoration of the 52nd anniversary of the assassination of President John F. Kennedy\, the photographs were on display at The Sixth Floor Museum for three months\, beginning in November 2015\, with accompanying online video interviews at dallasnews.com.
URL:https://www.jfk.org/event/portraits-history-lived-exhibit-closed/
LOCATION:The Sixth Floor Museum at Dealey Plaza\, 411 Elm St.\, Dallas\, TX\, 75202\, United States
END:VEVENT
BEGIN:VEVENT
DTSTART;VALUE=DATE:20151225
DTEND;VALUE=DATE:20151226
DTSTAMP:20221021T160949
CREATED:20151110T220342Z
LAST-MODIFIED:20151110T220342Z
UID:5717-1451001600-1451087999@www.jfk.org
SUMMARY:Museum Closed - Christmas Day
DESCRIPTION:
URL:https://www.jfk.org/event/museum-closed-christmas-day/
LOCATION:The Sixth Floor Museum at Dealey Plaza\, 411 Elm St.\, Dallas\, TX\, 75202\, United States
END:VEVENT
BEGIN:VEVENT
DTSTART;TZID=America/Chicago:20151122T180000
DTEND;TZID=America/Chicago:20151122T193000
DTSTAMP:20221021T160949
CREATED:20151118T165739Z
LAST-MODIFIED:20171028T153240Z
UID:5859-1448215200-1448220600@www.jfk.org
SUMMARY:Special Anniversary Concert
DESCRIPTION:In memory of President John F. Kennedy\, Gathering for Music: A Community Response to Violence was a chamber music concert that raised money for The Stewpot shelter for the homeless. Performers included Dallas Symphony performers Sarah Kienle on viola\, Shu Lee and Bruce Wittrig on violin\, and Nan Zhang on cello. The program featured Barber Adagio for Strings (1936)\, Schubert Rosamunde Quartet\, Opus 29 (1834 – Allegro ma non troppo\, Andante\, Menuetto allegretto and Allegro moderato) and Mozart Ave Verum (1791). \n  \n 
URL:https://www.jfk.org/event/special-anniversary-concert/
LOCATION:The Sixth Floor Museum at Dealey Plaza\, 411 Elm St.\, Dallas\, TX\, 75202\, United States
END:VEVENT
BEGIN:VEVENT
DTSTART;TZID=America/Chicago:20151122T140000
DTEND;TZID=America/Chicago:20151122T150000
DTSTAMP:20221021T160949
CREATED:20151111T225204Z
LAST-MODIFIED:20160421T190817Z
UID:5757-1448200800-1448204400@www.jfk.org
SUMMARY:Moments & Memories: Reflecting on November 22\, 1963
DESCRIPTION:This special program on the anniversary of President Kennedy’s death offered an exclusive look at rarely seen films\, photographs and new oral history recordings from our collection. Lead by our associate curator Stephen Fagin\, this program focused on how recent acquisitions helped the Museum continue to build a more complete story of that fateful day. Audience members were also invited to share their memories. View this program on YouTube. \n 
URL:https://www.jfk.org/event/moments-memories-reflecting-on-november-22-1963/
LOCATION:The Sixth Floor Museum at Dealey Plaza\, 411 Elm St.\, Dallas\, TX\, 75202\, United States
END:VEVENT
BEGIN:VEVENT
DTSTART;TZID=America/Chicago:20151122T123000
DTEND;TZID=America/Chicago:20151122T123000
DTSTAMP:20221021T160949
CREATED:20151110T215913Z
LAST-MODIFIED:20151110T215955Z
UID:5714-1448195400-1448195400@www.jfk.org
SUMMARY:52nd Anniversary of the Assassination of John F. Kennedy
DESCRIPTION:
URL:https://www.jfk.org/event/52nd-anniversary-of-the-assassination-of-john-f-kennedy/
END:VEVENT
BEGIN:VEVENT
DTSTART;TZID=America/Chicago:20151119T183000
DTEND;TZID=America/Chicago:20151119T200000
DTSTAMP:20221021T160949
CREATED:20150924T141541Z
LAST-MODIFIED:20171028T152400Z
UID:5085-1447957800-1447963200@www.jfk.org
SUMMARY:Fort Worth Opera Symposium in partnership with The Sixth Floor Museum: Civil Rights in Modern America
DESCRIPTION:Recent national events have brought to light the issue of deep civil unrest facing America’s minority populations\, proving that the topic of race relations is still at the forefront of both social and media consciousness. Through a curated conversation led by noted Fort Worth Star Telegram columnist and community activist Bob Ray Sanders\, this complicated hot-button issue was discussed by expert panelists Devoyd “Dee” Jennings\, Fort Worth Metropolitan Black Chamber of Commerce president; Jim Riddlesperger\, TCU presidential scholar; and Eddie Griffin\, civil rights activist. \nView this program on YouTube.
URL:https://www.jfk.org/event/fort-worth-opera-symposium-civil-rights-in-modern-america-2/
LOCATION:I.M. Terrell High School Auditorium\, 1411 I.M. Terrell Cir.\, Fort Worth\, TX\, 76102\, United States
END:VEVENT
BEGIN:VEVENT
DTSTART;TZID=America/Chicago:20151118T183000
DTEND;TZID=America/Chicago:20151118T200000
DTSTAMP:20221021T160949
CREATED:20150924T141310Z
LAST-MODIFIED:20171028T153729Z
UID:5083-1447871400-1447876800@www.jfk.org
SUMMARY:Fort Worth Opera Symposium in partnership with The Sixth Floor Museum: Civil Rights in Modern America
DESCRIPTION:Recent national events have brought to light the issue of deep civil unrest facing America’s minority populations\, proving that the topic of race relations is still at the forefront of both social and media consciousness. Through a curated conversation led by noted Fort Worth Star Telegram columnist and community activist Bob Ray Sanders\, this complicated hot-button issue was discussed by expert panelists Devoyd “Dee” Jennings\, Fort Worth Metropolitan Black Chamber of Commerce president; Jim Riddlesperger\, TCU presidential scholar; Clarence Broadnax\, civil rights activist and key organizer of the 1964 Picadilly Cafeteria protest; and Dennis Simon\, Altshuler Distinguished Professor of Political Science\, SMU.
URL:https://www.jfk.org/event/fort-worth-opera-symposium-civil-rights-in-modern-america/
LOCATION:Martin Luther King Jr. Community Center\, 2922 Martin Luther King Jr Blvd.\, Dallas\, TX\, 75215\, United States
END:VEVENT
BEGIN:VEVENT
DTSTART;TZID=America/Chicago:20151110T100000
DTEND;TZID=America/Chicago:20151110T100000
DTSTAMP:20221021T160949
CREATED:20151102T172524Z
LAST-MODIFIED:20171028T150043Z
UID:5598-1447149600-1447149600@www.jfk.org
SUMMARY:Portraits: History Lived - Exhibit opens
DESCRIPTION:A collaboration between The Dallas Morning News\, The Sixth Floor Museum at Dealey Plaza and several eyewitnesses to history Dallas 1963\, Portraits: History Lived was a series of current photographs of people who witnessed some part of the Kennedys’ 1963 visit to Dallas\, the assassination of the president or its aftermath. In commemoration of the 52nd anniversary of the assassination of President John F. Kennedy\, the photographs were on display at The Sixth Floor Museum for three months\, beginning in November 2015\, with accompanying online video interviews at dallasnews.com.
URL:https://www.jfk.org/event/portraits-history-lived-exhibit-opens/
LOCATION:The Sixth Floor Museum at Dealey Plaza\, 411 Elm St.\, Dallas\, TX\, 75202\, United States
END:VEVENT
BEGIN:VEVENT
DTSTART;TZID=America/Chicago:20151107T140000
DTEND;TZID=America/Chicago:20151107T150000
DTSTAMP:20221021T160949
CREATED:20150518T174420Z
LAST-MODIFIED:20160421T185959Z
UID:3907-1446904800-1446908400@www.jfk.org
SUMMARY:2015 Living History Series - Mary Woodward Pillsworth
DESCRIPTION:A women’s news reporter for The Dallas Morning News in 1963\, Pillsworth witnessed the assassination from the north side of Elm Street. The following year she joined the Peace Corps. View this program on YouTube.
URL:https://www.jfk.org/event/2015-living-history-series-mary-woodward-pillsworth/
LOCATION:The Sixth Floor Museum at Dealey Plaza\, 411 Elm St.\, Dallas\, TX\, 75202\, United States
END:VEVENT
BEGIN:VEVENT
DTSTART;TZID=America/Chicago:20151029T190000
DTEND;TZID=America/Chicago:20151029T200000
DTSTAMP:20221021T160949
CREATED:20150921T174355Z
LAST-MODIFIED:20171028T151944Z
UID:5049-1446145200-1446148800@www.jfk.org
SUMMARY:Superman Comes to the Supermarket: An Examination of Norman Mailer’s 1960 Kennedy Campaign Essay
DESCRIPTION:The late Norman Mailer saw in John F. Kennedy\, “a hero [who could] capture the secret imagination of a people\, and so be good for the vitality of his nation.” Mailer’s 1960 profile of the then-presidential candidate\, written for Esquire magazine\, galvanized excitement for Kennedy just days before the election\, and its radical writing style changed the face of New Journalism. Now Norman Mailer. JFK. Superman Comes to the Supermarket\, a new book from TASCHEN\, pairs this classic text with over 300 exhilarating photographs from the campaign trail in an extra-large format. TASCHEN Editor Nina Wiener moderated a discussion between two of the book’s contributors: J. Michael Lennon\, Mailer’s biographer\, and Lawrence Schiller\, award-winning photojournalist and filmmaker and Mailer’s long-time collaborator. \n  \nView this program on YouTube.
URL:https://www.jfk.org/event/superman-comes-to-the-supermarket-an-examination-of-norman-mailers-1960-kennedy-campaign-essay/
LOCATION:The Sixth Floor Museum at Dealey Plaza\, 411 Elm St.\, Dallas\, TX\, 75202\, United States
END:VEVENT
BEGIN:VEVENT
DTSTART;TZID=America/Chicago:20151022T183000
DTEND;TZID=America/Chicago:20151022T200000
DTSTAMP:20221021T160949
CREATED:20150923T175338Z
LAST-MODIFIED:20160421T190159Z
UID:5068-1445538600-1445544000@www.jfk.org
SUMMARY:Fort Worth Opera Symposium: Space Race
DESCRIPTION:President John F. Kennedy was committed to establishing the United States as a leader in space travel and transportation technology. His dedication to the mission of the exploration of outer space led to the development and expansion of NASA. Panelists will discuss the progression of NASA’s programming and role in space technology throughout the past 50 years and where they are headed in the decades to come with special guest speaker Dr. Wendell Mendell\, retired NASA scientist and instructor at International Space University\, and Apollo 7 astronaut Walt Cunningham. View this program on YouTube.
URL:https://www.jfk.org/event/fort-worth-opera-symposium-space-race/
LOCATION:University of Texas at Arlington
END:VEVENT
BEGIN:VEVENT
DTSTART;TZID=America/Chicago:20151017T140000
DTEND;TZID=America/Chicago:20151017T150000
DTSTAMP:20221021T160949
CREATED:20150518T174244Z
LAST-MODIFIED:20160421T185919Z
UID:3906-1445090400-1445094000@www.jfk.org
SUMMARY:2015 Living History Series - Scott Garbe
DESCRIPTION:A songwriter and schoolteacher in Canada\, Garbe has maintained a lifelong interest in the Kennedy assassination. After visiting Dealey Plaza\, he wrote a series of songs about the tragedy which was produced as a concept album\, The Kennedy Suite\, in 2013. View this program on YouTube. \nDownload “The Kennedy Suite” (78.6mb) | View the Lyrics & Artwork
URL:https://www.jfk.org/event/2015-living-history-series-scott-garbe/
LOCATION:The Sixth Floor Museum at Dealey Plaza\, 411 Elm St.\, Dallas\, TX\, 75202\, United States
END:VEVENT
BEGIN:VEVENT
DTSTART;TZID=America/Chicago:20151001T190000
DTEND;TZID=America/Chicago:20151001T200000
DTSTAMP:20221021T160949
CREATED:20150909T173441Z
LAST-MODIFIED:20160421T190033Z
UID:4814-1443726000-1443729600@www.jfk.org
SUMMARY:JFK and Victura
DESCRIPTION:Many families sail together\, but the Kennedys’ relationship with Victura\, the 25-foot sloop purchased in 1932 shortly after the family’s move to Hyannis Port\, stands apart. Author and sailor James W. Graham explores the influence sailing had on JFK\, shaping his character throughout his life and political career. The program was followed by a book signing. View this program on Youtube. \n  \n 
URL:https://www.jfk.org/event/victura-the-kennedys-a-sailboat-and-the-sea/
LOCATION:The Sixth Floor Museum at Dealey Plaza\, 411 Elm St.\, Dallas\, TX\, 75202\, United States
END:VEVENT
BEGIN:VEVENT
DTSTART;TZID=America/Chicago:20150919T140000
DTEND;TZID=America/Chicago:20150919T150000
DTSTAMP:20221021T160949
CREATED:20150518T174047Z
LAST-MODIFIED:20151030T210034Z
UID:3905-1442671200-1442674800@www.jfk.org
SUMMARY:2015 Living History Series - Jerry Kasten
DESCRIPTION:A social studies teacher at Bryan Adams High School in 1963\, Kasten was also a member of the Dallas Police Reserves. He was working crowd control on Commerce Street at the time of the Oswald shooting. View this program on YouTube.
URL:https://www.jfk.org/event/2015-living-history-series-jerry-kasten/
LOCATION:The Sixth Floor Museum at Dealey Plaza\, 411 Elm St.\, Dallas\, TX\, 75202\, United States
END:VEVENT
BEGIN:VEVENT
DTSTART;VALUE=DATE:20150515
DTEND;VALUE=DATE:20150516
DTSTAMP:20221021T160949
CREATED:20150216T172343Z
LAST-MODIFIED:20151006T143033Z
UID:1328-1431648000-1431734399@www.jfk.org
SUMMARY:A Witness to History with Hugh Aynesworth
DESCRIPTION:Hugh Aynesworth is a journalist and author who covered President Kennedy’s visit to Dallas for The Dallas Morning News and was the only reporter present for all of the major events that occurred the weekend of November 22-24\, 1963. Later he was an investigative reporter for Newsweek\, ABC’s “20/20\,” The Washington Times and Dallas Times Herald.
URL:https://www.jfk.org/event/witness-history-hugh-aynesworth/
LOCATION:The Sixth Floor Museum at Dealey Plaza\, 411 Elm St.\, Dallas\, TX\, 75202\, United States
CATEGORIES:Past Programs
END:VEVENT
BEGIN:VEVENT
DTSTART;TZID=America/Chicago:20150509T140000
DTEND;TZID=America/Chicago:20150509T150000
DTSTAMP:20221021T160949
CREATED:20150331T193052Z
LAST-MODIFIED:20151030T210510Z
UID:3120-1431180000-1431183600@www.jfk.org
SUMMARY:2015 Living History Series - Kenneth Giannoules
DESCRIPTION:As a longtime U.S. Secret Service agent\, Giannoules served on the White House Detail for Presidents Eisenhower\, Kennedy\, and Johnson. He worked the midnight shift at the Hotel Texas during President Kennedy’s visit to Fort Worth on November 22\, 1963. View this program on YouTube.
URL:https://www.jfk.org/event/living-history-with-kenneth-giannoules/
LOCATION:The Sixth Floor Museum at Dealey Plaza\, 411 Elm St.\, Dallas\, TX\, 75202\, United States
END:VEVENT
BEGIN:VEVENT
DTSTART;TZID=America/Chicago:20150418T140000
DTEND;TZID=America/Chicago:20150418T150000
DTSTAMP:20221021T160949
CREATED:20150331T191905Z
LAST-MODIFIED:20150518T173752Z
UID:3117-1429365600-1429369200@www.jfk.org
SUMMARY:2015 Living History Series - Bob Welch
DESCRIPTION:A reporter and cameraman for Dallas-Fort Worth NBC affiliate WBAP-TV\, Welch was at Love Field\, the Trade Mart\, and Parkland Memorial Hospital\, where he captured the only known sound recording of the announcement of President Kennedy’s death. View this program on YouTube. \n 
URL:https://www.jfk.org/event/living-history-with-bob-welch/
LOCATION:The Sixth Floor Museum at Dealey Plaza\, 411 Elm St.\, Dallas\, TX\, 75202\, United States
END:VEVENT
BEGIN:VEVENT
DTSTART;VALUE=DATE:20150408
DTEND;VALUE=DATE:20150409
DTSTAMP:20221021T160949
CREATED:20150216T172243Z
LAST-MODIFIED:20150216T172401Z
UID:1327-1428451200-1428537599@www.jfk.org
SUMMARY:Reporting History with Pierce Allman
DESCRIPTION:Pierce Allman is a career journalist\, working as WFAA-Radio’s program director in 1963 covering President Kennedy’s visit to Dallas. He was one of the first reporters inside the Texas School Book Depository after shots were fired at the Kennedy motorcade.
URL:https://www.jfk.org/event/reporting-history-pierce-allman/
LOCATION:The Sixth Floor Museum at Dealey Plaza\, 411 Elm St.\, Dallas\, TX\, 75202\, United States
CATEGORIES:Distance Learning
END:VEVENT
END:VCALENDAR