BEGIN:VCALENDAR
VERSION:2.0
PRODID:-//The Sixth Floor Museum at Dealey Plaza - ECPv6.0.2//NONSGML v1.0//EN
CALSCALE:GREGORIAN
METHOD:PUBLISH
X-ORIGINAL-URL:https://www.jfk.org
X-WR-CALDESC:Events for The Sixth Floor Museum at Dealey Plaza
REFRESH-INTERVAL;VALUE=DURATION:PT1H
X-Robots-Tag:noindex
X-PUBLISHED-TTL:PT1H
BEGIN:VTIMEZONE
TZID:America/Chicago
BEGIN:DAYLIGHT
TZOFFSETFROM:-0600
TZOFFSETTO:-0500
TZNAME:CDT
DTSTART:20220313T080000
END:DAYLIGHT
BEGIN:STANDARD
TZOFFSETFROM:-0500
TZOFFSETTO:-0600
TZNAME:CST
DTSTART:20221106T070000
END:STANDARD
END:VTIMEZONE
BEGIN:VEVENT
DTSTART;VALUE=DATE:20220117
DTEND;VALUE=DATE:20220118
DTSTAMP:20221021T160806
CREATED:20220405T155803Z
LAST-MODIFIED:20220405T162451Z
UID:37397-1642377600-1642463999@www.jfk.org
SUMMARY:Voices from the Civil Rights Movement
DESCRIPTION:To commemorate Martin Luther King Jr. Day and celebrate Black History Month\, the Museum assembled a special series of civil rights-related oral histories: Voices from the Civil Rights Movement. \n  \nRepresented in these interviews are the major civil rights organizations from the early 1960s\, including the NAACP\, Congress of Racial Equality (CORE)\, Student Non-violent Coordinating Committee (SNCC)\, and the Southern Christian Leadership Conference (SCLC). They also include powerful memories of several key moments of the Civil Rights Movement\, including the Freedom Rides\, March on Washington\, Selma to Montgomery march and SCOPE Project (Summer Community Organizing and Political Education) organized by the SCLC. \n  \n\n  \nDr. Wornie Reed \nAs a student at Alabama State University\, Reed took part in the Montgomery bus boycott in 1955-56. After moving to Washington\, D.C.\, he participated in the 1963 March on Washington and the 1968 Poor People’s Campaign and became active with SNCC and the Black Power movement. Reed was acquainted with Dr. Martin Luther King\, Jr. for several years and attended his funeral in Atlanta. \n  \nWatch on YouTube \n  \n\n  \nJennifer Lawson \nA former PBS programming executive\, Lawson grew up near Birmingham\, Alabama\, and was first arrested during a civil rights march in May 1963. She eventually left Tuskegee University to become a full-time field secretary for SNCC. Working in Lowndes County\, Alabama\, Lawson helped create a series of comic books and billboards to promote voter education in 1966. \n  \nWatch on YouTube \n  \n\n  \nDr. David Fankhauser \nWhile attending Central State University in Wilberforce\, Ohio\, Fankhauser became a civil rights Freedom Rider and was arrested in Jackson\, Mississippi\, in May 1961. He was incarcerated in a state penitentiary for forty-two days alongside fellow activist Stokely Carmichael. \n  \nWatch on YouTube \n  \n\n  \nBetty Daniels Rosemond \nWhile attending high school in New Orleans\, Rosemond met Dr. King and became locally active with CORE. As a CORE Freedom Rider in 1961\, she nearly lost her life to a mob during a stop in Poplarville\, Mississippi. Rosemond participated in several non-violent protests in the early 1960s and was arrested during a restaurant sit-in in Alexandria\, Virginia. \n  \nWatch on YouTube \n  \n\n  \nThomas M. Armstrong \nAs a student at Tougaloo College in Mississippi from 1959 to 1963\, Armstrong was active in civil rights demonstrations and voter registration drives. He worked with NAACP activist Medgar Evers and participated in the 1961 Freedom Rides. Armstrong is the author of Autobiography of a Freedom Rider: My Life as a Foot Soldier for Civil Rights (2011). \n  \nWatch on YouTube \n  \n\n  \nMaria Gitin \nAs a student at San Francisco State College\, Gitin spent the summer of 1965 participating in the SCOPE project of the SCLC. She is the author of This Bright Light of Ours: Stories from the Voting Rights Fight (2014). \n  \nWatch on YouTube \n  \n\n  \nLynda Blackmon Lowery \nAn Alabama native dedicated to civil rights since childhood\, Lowery was arrested nine times prior to her fifteenth birthday. After being brutally beaten in Selma on “Bloody Sunday\,” March 7\, 1965\, she was the youngest among the 300 civil rights activists to complete the five-day\, 54-mile march from Selma to Montgomery. Lowery is author of the award-winning children’s book\, Turning 15 on the Road to Freedom (2015). \n  \nWatch on YouTube \n  \n 
URL:https://www.jfk.org/event/voices-from-the-civil-rights-movement/
LOCATION:Virtual Program
ORGANIZER;CN="The%20Sixth%20Floor%20Museum%20at%20Dealey%20Plaza":MAILTO:Education@jfk.org
END:VEVENT
END:VCALENDAR