BEGIN:VCALENDAR
VERSION:2.0
PRODID:-//The Sixth Floor Museum at Dealey Plaza - ECPv6.0.2//NONSGML v1.0//EN
CALSCALE:GREGORIAN
METHOD:PUBLISH
X-ORIGINAL-URL:https://www.jfk.org
X-WR-CALDESC:Events for The Sixth Floor Museum at Dealey Plaza
REFRESH-INTERVAL;VALUE=DURATION:PT1H
X-Robots-Tag:noindex
X-PUBLISHED-TTL:PT1H
BEGIN:VTIMEZONE
TZID:America/Chicago
BEGIN:DAYLIGHT
TZOFFSETFROM:-0600
TZOFFSETTO:-0500
TZNAME:CDT
DTSTART:20220313T080000
END:DAYLIGHT
BEGIN:STANDARD
TZOFFSETFROM:-0500
TZOFFSETTO:-0600
TZNAME:CST
DTSTART:20221106T070000
END:STANDARD
END:VTIMEZONE
BEGIN:VEVENT
DTSTART;TZID=America/Chicago:20220425T180000
DTEND;TZID=America/Chicago:20220425T193000
DTSTAMP:20221021T160050
CREATED:20220405T160515Z
LAST-MODIFIED:20220405T192948Z
UID:37403-1650909600-1650915000@www.jfk.org
SUMMARY:Member Event | An Evening with Mark Updegrove
DESCRIPTION:  \n \nMuseum members are invited to join the Museum for an evening with Mark Updegrove to celebrate the publication of his new book\, Incomparable Grace: JFK in the Presidency. \n  \n6:00 P.M. | Reception  \n6:30 P.M. | Program | Mark Updegrove in conversation with Nicola Longford\, CEO of The Sixth Floor Museum \n \n  \nComplimentary self-parking available in Parking Lot A. \nAttendees receive a signed copy of Incomparable Grace. \n  \nPlease reply by Wednesday\, April 20 to rsvp@jfk.org. \n  \nWant to attend but aren’t a member yet? Join today! \n  \n\nABOUT INCOMPARABLE GRACE \n  \nNearly sixty years after his death\, JFK still holds an outsize place in the American imagination. While Baby Boomers remember his dazzling presence as president\, millennials more likely know him from advertisements for Omega watches or Ray Ban sunglasses. Yet his years in office were marked by more than his style and elegance. His presidency is a story of a fledgling leader forced to meet unprecedented challenges\, and to rise above missteps to lead his nation into a new and hopeful era. \n  \nKennedy entered office inexperienced but alluring\, his reputation more given by an enamored public than earned through achievement. In this gripping new assessment of his time in the Oval Office\, Updegrove reveals how JFK’s first months were marred by setbacks: the botched Bay of Pigs invasions\, a disastrous summit with the Soviet premier and a mismanaged approach to the Civil Rights movement. But the young president soon proved that behind the glamour was a leader of uncommon fortitude and vision. \n  \nA humbled Kennedy conceded his mistakes\, and\, importantly for our times\, drew important lessons from his failures that he used to right wrongs and move forward undaunted. Indeed\, Kennedy grew as president\, radiating greater possibility as he coolly faced a steady stream of crises before his tragic end. \n  \nIncomparable Grace compellingly reexamines the dramatic\, consequential White House years of a flawed but gifted leader too often defined by the Camelot myth that came after his untimely death.
URL:https://www.jfk.org/event/member-event-an-evening-with-mark-updegrove/
LOCATION:The Sixth Floor Museum at Dealey Plaza\, 411 Elm St.\, Dallas\, TX\, 75202\, United States
ORGANIZER;CN="The%20Sixth%20Floor%20Museum%20at%20Dealey%20Plaza":MAILTO:Education@jfk.org
END:VEVENT
END:VCALENDAR